BEGIN:VCALENDAR
VERSION:2.0
PRODID:-//ChamberMaster//Event Calendar 2.0//EN
METHOD:PUBLISH
X-PUBLISHED-TTL:P3D
REFRESH-INTERVAL:P3D
CALSCALE:GREGORIAN
BEGIN:VEVENT
DTSTART;VALUE=DATE:20150325
DTEND;VALUE=DATE:20150326
TRANSP:TRANSPARENT
X-MICROSOFT-CDO-ALLDAYEVENT:TRUE
SUMMARY:FREE Laughing Yoga @ the Watertower Gallery
DESCRIPTION:FREE Laughing Yoga\, by certified Laughing Yoga instructor Suzi. LAUGH for JOY\, LAUGH for FUN\, LAUGH for HEALTH. LAUGH for NO REASON\, LAUGH to increase Oxygen intake\, LAUGH to breathe\, LAUGH to LIVE.Mendocino Amusement Club\, Mondays 6:00 - 6:30 pm at the Watertower Gallery in Mendocino (611 Albion @ Kasten Street). Call 707-937-5664 for more information.
X-ALT-DESC;FMTTYPE=text/html:<p>FREE Laughing Yoga\, by certified Laughing Yoga instructor Suzi. LAUGH for JOY\, LAUGH for FUN\, LAUGH for HEALTH. LAUGH for NO REASON\, LAUGH to increase Oxygen intake\, LAUGH to breathe\, LAUGH to LIVE.</p><p>Mendocino Amusement Club\, Mondays 6:00 - 6:30 pm at the Watertower Gallery in Mendocino (611 Albion @ Kasten Street). Call 707-937-5664 for more information.</p>
LOCATION:The Watertower Gallery Mendocino
UID:e.2883.573
SEQUENCE:3
DTSTAMP:20260422T134002Z
URL:https://mendocinocoast.com/events/details/free-laughing-yoga-the-watertower-gallery-03-25-2015-573
END:VEVENT

END:VCALENDAR
