BEGIN:VCALENDAR
VERSION:2.0
PRODID:-//ChamberMaster//Event Calendar 2.0//EN
METHOD:PUBLISH
X-PUBLISHED-TTL:P3D
REFRESH-INTERVAL:P3D
CALSCALE:GREGORIAN
BEGIN:VEVENT
DTSTART;VALUE=DATE:20141202
DTEND;VALUE=DATE:20141203
TRANSP:TRANSPARENT
X-MICROSOFT-CDO-ALLDAYEVENT:TRUE
SUMMARY:Free Laughing Yoga
DESCRIPTION:LAUGH for JOY\nLAUGH for FUN\nLAUGH for HEALTHLAUGH for NO REASON\nLAUGH to increase Oxygen intake\nLAUGH to breathe\nLAUGH to LIVECertified laughing yoga instructor gives free Laughing Yoga classes every Tuesday in December from 5:30 - 6 p.m. +/-. Come to the Watertower Gallery\, 611 Albion @ Kasten\, Mendocino\, to laugh and have fun!Call 937-5664 for more information.
X-ALT-DESC;FMTTYPE=text/html:<p>LAUGH for JOY<br />LAUGH for FUN<br />LAUGH for HEALTH</p><p>LAUGH for NO REASON<br />LAUGH to increase Oxygen intake<br />LAUGH to breathe<br />LAUGH to LIVE</p><p>Certified laughing yoga instructor gives free Laughing Yoga classes every Tuesday in December from 5:30 - 6 p.m. +/-. Come to the Watertower Gallery\, 611 Albion @ Kasten\, Mendocino\, to laugh and have fun!</p><p>Call 937-5664 for more information.</p>
LOCATION:Watertower Gallery Mendocino Coast
UID:e.2883.384
SEQUENCE:3
DTSTAMP:20260422T193348Z
URL:https://mendocinocoast.com/events/details/free-laughing-yoga-12-02-2014-384
END:VEVENT

END:VCALENDAR
