BEGIN:VCALENDAR
VERSION:2.0
PRODID:-//ChamberMaster//Event Calendar 2.0//EN
METHOD:PUBLISH
X-PUBLISHED-TTL:P3D
REFRESH-INTERVAL:P3D
CALSCALE:GREGORIAN
BEGIN:VEVENT
DTSTART:20140407T160000Z
DTEND:20140407T183000Z
X-MICROSOFT-CDO-ALLDAYEVENT:FALSE
SUMMARY:Free Flight Program for youth 8-17
DESCRIPTION:At Little River airport on Â May 3rd Experienced and liscenced pilots will give ground instruction between 9-11:30 Â to Youth Â ages 8-17\, who have parental permission. A free flight will be included weather permitting. Call 707-964-5434 for more information and the Free Flight Kit.
X-ALT-DESC;FMTTYPE=text/html:<p>At Little River airport on Â May 3rd Experienced and liscenced pilots will give ground instruction between 9-11:30 Â to Youth Â ages 8-17\, who have parental permission. A free flight will be included weather permitting. Call 707-964-5434 for more information and the Free Flight Kit.</p>
LOCATION:LIttle River Airport
UID:e.2883.199
SEQUENCE:3
DTSTAMP:20260423T095847Z
URL:https://mendocinocoast.com/events/details/free-flight-program-for-youth-8-17-04-07-2014-199
END:VEVENT

END:VCALENDAR
