BEGIN:VCALENDAR
VERSION:2.0
PRODID:-//ChamberMaster//Event Calendar 2.0//EN
METHOD:PUBLISH
X-PUBLISHED-TTL:P3D
REFRESH-INTERVAL:P3D
CALSCALE:GREGORIAN
BEGIN:VEVENT
DTSTART:20150202T040000Z
DTEND:20150202T070000Z
X-MICROSOFT-CDO-ALLDAYEVENT:FALSE
SUMMARY:Francis Vanek Trio @ Headlands Coffeehouse
DESCRIPTION:ate:February 3Time:7:00 pm - 10:00 pmEvent Category:EntertainmentVenueHeadlands Coffeehouse120 Laurel Street\, Fort Bragg\, CA 95437 United States\nPhone:707-964-1987Website:http://www.headlandscoffeehouse.com
X-ALT-DESC;FMTTYPE=text/html:<div><dl><dt>ate:</dt><dd><abbr title="2015-02-03">February 3</abbr></dd><dt>Time:</dt><dd><abbr title="2015-02-03">7:00 pm - 10:00 pm</abbr></dd><dt>Event Category:</dt><dd><a rel="tag" href="http://www.kozt.com/calendar/category/entertainment/" target="_blank">Entertainment</a></dd></dl></div><div><h3>Venue</h3><dl><dd><a href="http://www.kozt.com/venue/headlands-coffeehouse/" target="_blank">Headlands Coffeehouse</a></dd><dd><address><span><span>120 Laurel Street</span><span>\,</span> <span>Fort Bragg</span><span>\,</span> <abbr title="California">CA</abbr> <span>95437</span> <span>United States</span></span></address><br /></dd><dt>Phone:</dt><dd>707-964-1987</dd><dt>Website:</dt><dd><a href="http://www.headlandscoffeehouse.com/" target="_blank">http://www.headlandscoffeehouse.com</a></dd></dl></div>
LOCATION:Headlands Coffeehouse Fort Bragg CA
UID:e.2883.489
SEQUENCE:3
DTSTAMP:20260422T163747Z
URL:https://mendocinocoast.com/events/details/francis-vanek-trio-headlands-coffeehouse-02-01-2015-489
END:VEVENT

END:VCALENDAR
