BEGIN:VCALENDAR
VERSION:2.0
PRODID:-//ChamberMaster//Event Calendar 2.0//EN
METHOD:PUBLISH
X-PUBLISHED-TTL:P3D
REFRESH-INTERVAL:P3D
CALSCALE:GREGORIAN
BEGIN:VEVENT
DTSTART:20150106T040000Z
DTEND:20150106T070100Z
X-MICROSOFT-CDO-ALLDAYEVENT:FALSE
SUMMARY:Francis Vanek Trio at Headlands Coffeehouse
DESCRIPTION:Live music at the Headlands Coffeehouse\, 120 Laurel Street\, Fort Bragg:Â Francis Vanek Trio (Jazz Sax\, Bass\, Drums).Call 707-964-1987 for more information
X-ALT-DESC;FMTTYPE=text/html:<p>Live music at the Headlands Coffeehouse\, 120 Laurel Street\, Fort Bragg:Â Francis Vanek Trio (Jazz Sax\, Bass\, Drums).</p><p>Call 707-964-1987 for more information</p>
LOCATION:Headlands Coffeehouse Fort Bragg CA
UID:e.2883.429
SEQUENCE:3
DTSTAMP:20260422T163929Z
URL:https://mendocinocoast.com/events/details/francis-vanek-trio-at-headlands-coffeehouse-01-05-2015-429
END:VEVENT

END:VCALENDAR
