BEGIN:VCALENDAR
VERSION:2.0
PRODID:-//ChamberMaster//Event Calendar 2.0//EN
METHOD:PUBLISH
X-PUBLISHED-TTL:P3D
REFRESH-INTERVAL:P3D
CALSCALE:GREGORIAN
BEGIN:VEVENT
DTSTART:20150127T040000Z
DTEND:20150127T070000Z
X-MICROSOFT-CDO-ALLDAYEVENT:FALSE
SUMMARY:Francis Vanek Trio
DESCRIPTION:Francis Vanek Trio (Jazz Sax\, Bass\, Drums)\, Jazz Standards\, at Headlands Coffeehouse
X-ALT-DESC;FMTTYPE=text/html:<p>Francis Vanek Trio (Jazz Sax\, Bass\, Drums)\, Jazz Standards\, at Headlands Coffeehouse</p>
LOCATION:Headlands Coffeehouse Fort Bragg CA
UID:e.2883.451
SEQUENCE:3
DTSTAMP:20260422T163356Z
URL:https://mendocinocoast.com/events/details/francis-vanek-trio-01-26-2015-451
END:VEVENT

END:VCALENDAR
