BEGIN:VCALENDAR
VERSION:2.0
PRODID:-//ChamberMaster//Event Calendar 2.0//EN
METHOD:PUBLISH
X-PUBLISHED-TTL:P3D
REFRESH-INTERVAL:P3D
CALSCALE:GREGORIAN
BEGIN:VEVENT
DTSTART:20160114T043000Z
DTEND:20160114T063000Z
X-MICROSOFT-CDO-ALLDAYEVENT:FALSE
SUMMARY:Foxglove - Bluegrass-esque ensemble in concert
DESCRIPTION:Foxglove\, will return to the Hill House Inn on Saturday March 5 for an acoustic concert. The band will play some fine music with guitar\, mandolin\, bass and multiple other instruments with rich vocal accompaniment.Â Music starts at 7:30PM at the Hill House of Mendocino.\n\nSince 2003\, Foxglove has been performing its own special blend of singer/songwriter music set to a bluegrass-esque ensemble at coffeehouses\, festivals and theaters in Northern California. Sweet brother-sister harmonies\, a tasty mix of strong original music and select covers\, and outstanding instrumental talent are all part of Foxglove's signature sound. Foxglove is: Gwyneth Moreland (Vocals\, accordion\, guitar)\, Morgan Daniel (vocals\, guitar)\, John Bush (vocals\, bass)\, and Booi Volk (mandolin\, banjo\, etc.). \n\n"...the perfect union of bluegrass\, R&B\, and rock-n-roll." -Smother.netâ€¨â€¨"...Foxglove is the real deal." -Dan MacIntosh\, Indie-Music.com\n\nAll ages are welcome! Doors open at 6PM for bistro menu and full bar. Reserved table seating $20\, $15 general admission. Call Pattie at 707-937-1732
X-ALT-DESC;FMTTYPE=text/html:<p>Foxglove\, will return to the Hill House Inn on Saturday March 5 for an acoustic concert. The band will play some fine music with guitar\, mandolin\, bass and multiple other instruments with rich vocal accompaniment.Â Music starts at 7:30PM at the Hill House of Mendocino.<br /><br />Since 2003\, Foxglove has been performing its own special blend of singer/songwriter music set to a bluegrass-esque ensemble at coffeehouses\, festivals and theaters in Northern California. Sweet brother-sister harmonies\, a tasty mix of strong original music and select covers\, and outstanding instrumental talent are all part of Foxglove's signature sound. Foxglove is: Gwyneth Moreland (Vocals\, accordion\, guitar)\, Morgan Daniel (vocals\, guitar)\, John Bush (vocals\, bass)\, and Booi Volk (mandolin\, banjo\, etc.). <br /><br />"...the perfect union of bluegrass\, R&amp\;B\, and rock-n-roll." -Smother.netâ€¨â€¨"...Foxglove is the real deal." -Dan MacIntosh\, Indie-Music.com<br /><br />All ages are welcome! Doors open at 6PM for bistro menu and full bar. Reserved table seating $20\, $15 general admission. Call Pattie at 707-937-1732</p>
LOCATION:Hill House of Mendocino
UID:e.2883.836
SEQUENCE:3
DTSTAMP:20260421T224508Z
URL:https://mendocinocoast.com/events/details/foxglove-bluegrass-esque-ensemble-in-concert-01-13-2016-836
END:VEVENT

END:VCALENDAR
