BEGIN:VCALENDAR
VERSION:2.0
PRODID:-//ChamberMaster//Event Calendar 2.0//EN
METHOD:PUBLISH
X-PUBLISHED-TTL:P3D
REFRESH-INTERVAL:P3D
CALSCALE:GREGORIAN
BEGIN:VEVENT
DTSTART;VALUE=DATE:20150310
DTEND;VALUE=DATE:20150311
TRANSP:TRANSPARENT
X-MICROSOFT-CDO-ALLDAYEVENT:TRUE
SUMMARY:Fourth Annual Caspar UkeFest
DESCRIPTION:An all-day ukulele festival is planned for Saturday\, April 18\, when Mendocino Stories and Events joins The Caspar Community to celebrate the ukulele as a friendly and playful instrument. The all-day festival features instructional workshops\, jam sessions\, retail sales and evening performances\, complemented by "...fresh\, local\, and gourmet cuisine prepared by the volunteers in Caspar's kitchen." This is an â€œAll Ages\, All levels of interest and expertiseâ€ event. \n\nThe â€œUkeFest Kick-Offâ€ event will be held at Caspar Community Center this year. Doors will open at 7PM for refreshments and ukulele display. Performances will open the evening and a jam session will follow. Cost is $5 if you bring a ukulele and $10 if you donâ€™t.\n\nSaturdayâ€™s activities start at 9AM with coffee\, tea and muffins\, a vendor area and orientation at 9:45AM. Morning ukulele workshops will be held at 10AM and 11:30AM\, with instruction for beginners\, intermediate and advanced players. After a break for lunch\, two more workshops â€“ one for intermediate/advanced players and one â€œEnsembleâ€ workshop will be held and followed by jam sessions in small break-out groups and informal Q&A workshops with the instructors before the dinner break. Evening performances starting at 7PM will include producers Dennis Hudson and Pattie DeMatteo\, The Ukeholics\, Brook Adams and Hui Arago with the hula sisters O Lei Palaoa. \n\nTicket price for all-day is $40 and includes three workshops and evening performances\, $25 half-day\, one workshop only $15\, sliding scale $5 -$15 for evening performances only. Tickets will be available by email at pattied@mcn.org and by phone at 707 937-1732
X-ALT-DESC;FMTTYPE=text/html:<p><span style="font-family:arial\, helvetica\, sans-serif\;font-size:small\;">An all-day ukulele festival is planned for Saturday\, April 18\, when Mendocino Stories and Events joins The Caspar Community to celebrate the ukulele as a friendly and playful instrument. The all-day festival features instructional workshops\, jam sessions\, retail sales and evening performances\, complemented by "...fresh\, local\, and gourmet cuisine prepared by the volunteers in Caspar's kitchen." This is an â€œAll Ages\, All levels of interest and expertiseâ€ event. </span><br /><br /><span style="font-family:arial\, helvetica\, sans-serif\;font-size:small\;">The â€œUkeFest Kick-Offâ€ event will be held at Caspar Community Center this year. Doors will open at 7PM for refreshments and ukulele display. Performances will open the evening and a jam session will follow. Cost is $5 if you bring a ukulele and $10 if you donâ€™t.</span><br /><br /><span style="font-family:arial\, helvetica\, sans-serif\;font-size:small\;">Saturdayâ€™s activities start at 9AM with coffee\, tea and muffins\, a vendor area and orientation at 9:45AM. Morning ukulele workshops will be held at 10AM and 11:30AM\, with instruction for beginners\, intermediate and advanced players. After a break for lunch\, two more workshops â€“ one for intermediate/advanced players and one â€œEnsembleâ€ workshop will be held and followed by jam sessions in small break-out groups and informal Q&amp\;A workshops with the instructors before the dinner break. Evening performances starting at 7PM will include producers Dennis Hudson and Pattie DeMatteo\, The Ukeholics\, Brook Adams and Hui Arago with the hula sisters O Lei Palaoa. </span><br /><br /><span style="font-family:arial\, helvetica\, sans-serif\;font-size:small\;">Ticket price for all-day is $40 and includes three workshops and evening performances\, $25 half-day\, one workshop only $15\, sliding scale $5 -$15 for evening performances only. Tickets will be available by email at pattied@mcn.org and by phone at 707 937-1732</span></p>
LOCATION:Caspar Community Center Caspar\, CA
UID:e.2883.559
SEQUENCE:3
DTSTAMP:20260422T133328Z
URL:https://mendocinocoast.com/events/details/fourth-annual-caspar-ukefest-03-10-2015-559
END:VEVENT

END:VCALENDAR
