BEGIN:VCALENDAR
VERSION:2.0
PRODID:-//ChamberMaster//Event Calendar 2.0//EN
METHOD:PUBLISH
X-PUBLISHED-TTL:P3D
REFRESH-INTERVAL:P3D
CALSCALE:GREGORIAN
BEGIN:VEVENT
DTSTART:20150130T013000Z
DTEND:20150130T030000Z
X-MICROSOFT-CDO-ALLDAYEVENT:FALSE
SUMMARY:Four Shillings Short @ Fort Bragg library
DESCRIPTION:The Celtic/Folk/World music duo Four Shillings ShortÂ are coming toÂ Mendocino County in February for concerts in Fort Bragg\, Covelo\, Willits & Ukiah.Â Â WEDNESDAY: FEB 18\, 4:30 to 6:00pmFORT BRAGG LIBRARY (499 Laurel St.\, Fort Bragg\, CA 95437)Call the library for more information at (707) 964-2020Free Family ConcertÂ Four Shillings Short\, the husband/wife duo of Aodh Og Oâ€™Tuama from Cork\, Ireland and Christy Martin from California\,Â perform Traditional and Original music fromÂ the Celtic lands\, Medieval & RenaissanceÂ Europe\, India and the Americas on a fantastic array of instruments (over 30) including Hammered& Mountain Dulcimer\, Mandolin\, Mandola\, Bouzouki\, Tinwhistles\, Recorders\, Medieval and Renaissance Woodwinds\, North Indian Sitar\, Charango\, Bowed Psaltery\, Banjo\, Bodhran\, Guitar\, Percussion\, vocals and even a Krumhorn.
X-ALT-DESC;FMTTYPE=text/html:<p><strong><span><span style="font-size: small\;">The Celtic/Folk/World music duo Four Shillings ShortÂ are coming toÂ Mendocino County in February for concerts in Fort Bragg\, Covelo\, Willits &amp\; Ukiah.</span></span></strong></p><p>Â </p><p>Â </p><p><strong>WEDNESDAY: FEB 18\, </strong><strong>4:30 to 6:00pm</strong></p><p><strong>FORT BRAGG LIBRARY (</strong><strong>499 Laurel St.\, </strong><strong>Fort Bragg\, CA 95437)</strong></p><p><strong>Call the library for more information at (707) 964-2020</strong></p><p><strong>Free Family Concert</strong></p><p>Â </p><p><strong><strong><span><span style="font-size: small\;">Four Shillings Short\, the husband/wife duo of Aodh Og Oâ€™Tuama from Cork\, Ireland and Christy Martin from California\,Â perform Traditional and Original music fromÂ the Celtic lands\, Medieval &amp\; RenaissanceÂ Europe\, India and the Americas on a fantastic array of instruments (over 30) including Hammered&amp\; Mountain Dulcimer\, Mandolin\, Mandola\, Bouzouki\, Tinwhistles\, Recorders\, Medieval and Renaissance Woodwinds\, North Indian Sitar\, Charango\, Bowed Psaltery\, Banjo\, Bodhran\, Guitar\, Percussion\, vocals and even a Krumhorn. </span></span></strong><br /></strong></p>
LOCATION:Fort Bragg library Fort Bragg\, CA
UID:e.2883.482
SEQUENCE:3
DTSTAMP:20260422T163615Z
URL:https://mendocinocoast.com/events/details/four-shillings-short-fort-bragg-library-01-29-2015-482
END:VEVENT

END:VCALENDAR
