BEGIN:VCALENDAR
VERSION:2.0
PRODID:-//ChamberMaster//Event Calendar 2.0//EN
METHOD:PUBLISH
X-PUBLISHED-TTL:P3D
REFRESH-INTERVAL:P3D
CALSCALE:GREGORIAN
BEGIN:VEVENT
DTSTART:20140818T180000Z
DTEND:20140818T200000Z
X-MICROSOFT-CDO-ALLDAYEVENT:FALSE
SUMMARY:Fort Bragg Whale Festival 2015
DESCRIPTION:Save the date! Fort Bragg Whale Festival 2015 in the town of Fort Bragg\, March 21.Â TheÂ Chowder Tasting takes place on Saturday\, March 21\, at Town Hall (363 N Main Street)Â from 11 am - 1 pm or until the chowder runs out. Tickets are $10 and can be bought online atÂ http://www.brownpapertickets.com/event/936024%20 or at- The Mendocino Coast Chamber office at 217 South Main Street (Fort Bragg)\n- Harvest Market\, 171 Boatyard Drive (Fort Bragg)Â \n- Out of This World\, 45100 Main Street (Mendocino)Â The 31st Annual 10K/5K Whale Run & Walk also takes place on Saturday\, March 21\, there will beÂ Charter Boat Services to encounter the whales up close (call the Chamber for referrals at 707-961-6300) and the Point Cabrillo Lighthouse will have funfilled activities on Saturday and Sunday.Â Check out www.mendowhale.com for more information.
X-ALT-DESC;FMTTYPE=text/html:<p>Save the date! Fort Bragg Whale Festival 2015 in the town of Fort Bragg\, March 21.</p><p>Â </p><p>TheÂ <strong>Chowder Tasting</strong> takes place on Saturday\, March 21\, at Town Hall (363 N Main Street)Â from 11 am - 1 pm or until the chowder runs out. Tickets are $10 and can be bought online atÂ <a href="http://www.brownpapertickets.com/event/936024%20" target="_blank">http://www.brownpapertickets.com/event/936024%20</a> or at</p><p>- The Mendocino Coast Chamber office at 217 South Main Street (Fort Bragg)<br />- Harvest Market\, 171 Boatyard Drive (Fort Bragg)Â <br />- Out of This World\, 45100 Main Street (Mendocino)</p><p>Â </p><p>The <strong>31st Annual 10K/5K Whale Run &amp\; Walk</strong> also takes place on Saturday\, March 21\, there will beÂ <strong>Charter Boat Services</strong> to encounter the whales up close (call the Chamber for referrals at 707-961-6300) and the <strong>Point Cabrillo Lighthouse</strong> will have funfilled activities on Saturday and Sunday.</p><p>Â </p><p>Check out <a href="http://www.mendowhale.com" target="_blank">www.mendowhale.com</a> for more information.</p>
LOCATION:California Fort Bragg
UID:e.2883.313
SEQUENCE:3
DTSTAMP:20260423T011115Z
URL:https://mendocinocoast.com/events/details/fort-bragg-whale-festival-2015-08-18-2014-313
END:VEVENT

END:VCALENDAR
