BEGIN:VCALENDAR
VERSION:2.0
PRODID:-//ChamberMaster//Event Calendar 2.0//EN
METHOD:PUBLISH
X-PUBLISHED-TTL:P3D
REFRESH-INTERVAL:P3D
CALSCALE:GREGORIAN
BEGIN:VEVENT
DTSTART;VALUE=DATE:20150611
DTEND;VALUE=DATE:20150612
TRANSP:TRANSPARENT
X-MICROSOFT-CDO-ALLDAYEVENT:TRUE
SUMMARY:Fort Bragg Whale Festival
DESCRIPTION:Fort Bragg Whale Festival
X-ALT-DESC;FMTTYPE=text/html:<p>Fort Bragg Whale Festival</p>
LOCATION:City of Fort Bragg
UID:e.2883.642
SEQUENCE:3
DTSTAMP:20260422T082659Z
URL:https://mendocinocoast.com/events/details/fort-bragg-whale-festival-06-11-2015-642
END:VEVENT

END:VCALENDAR
