BEGIN:VCALENDAR
VERSION:2.0
PRODID:-//ChamberMaster//Event Calendar 2.0//EN
METHOD:PUBLISH
X-PUBLISHED-TTL:P3D
REFRESH-INTERVAL:P3D
CALSCALE:GREGORIAN
BEGIN:VEVENT
DTSTART:20140315T090000Z
DTEND:20140315T080000Z
X-MICROSOFT-CDO-ALLDAYEVENT:FALSE
SUMMARY:Fort Bragg Whale Festival
DESCRIPTION:chowder tasting\, beer tasting\, 30th annual 10k/5k whale run & walk\, crafts fair
X-ALT-DESC;FMTTYPE=text/html:<p>chowder tasting\, beer tasting\, 30th annual 10k/5k whale run &amp\; walk\, crafts fair</p>
LOCATION:Fort Bragg Mendocino
UID:e.2883.51
SEQUENCE:3
DTSTAMP:20260423T113827Z
URL:https://mendocinocoast.com/events/details/fort-bragg-whale-festival-03-15-2014-51
END:VEVENT

END:VCALENDAR
