BEGIN:VCALENDAR
VERSION:2.0
PRODID:-//ChamberMaster//Event Calendar 2.0//EN
METHOD:PUBLISH
X-PUBLISHED-TTL:P3D
REFRESH-INTERVAL:P3D
CALSCALE:GREGORIAN
BEGIN:VEVENT
DTSTART:20141122T210000Z
DTEND:20141123T030000Z
X-MICROSOFT-CDO-ALLDAYEVENT:FALSE
SUMMARY:Fort Bragg Rotary-Mendocino Coast Sports Foundation crab feed
DESCRIPTION:The Fort Bragg Rotary-Mendocino Coast Sports Foundation crab feed will be on Saturday Jan 24 at the Fort Bragg Fire House from noon to 6:00PM. It is an all you can eat crab feed that includes Crab\, Salad\, Clam Chowder and Garlic Bread. Beer\, wine and soft drinks are available for sale as well as a large array of desserts. Cost for the Crab feed is $45 advance or $50 at the door\, children under 10 accompanied by a paying adult are free.Pre-sale tickets can be purchased at Pyorre Insurance Agency 707-964-6331\, Sport Dodge 707-964-5915 or Harvest Market
X-ALT-DESC;FMTTYPE=text/html:<p><blockquote><div lang="EN-US"><div><div>The Fort Bragg Rotary-Mendocino Coast Sports Foundation crab feed will be on Saturday Jan 24 at the Fort Bragg Fire House from noon to 6:00PM. It is an all you can eat crab feed that includes Crab\, Salad\, Clam Chowder and Garlic Bread. Beer\, wine and soft drinks are available for sale as well as a large array of desserts. Cost for the Crab feed is $45 advance or $50 at the door\, children under 10 accompanied by a paying adult are free.</div><div>Pre-sale tickets can be purchased at Pyorre Insurance Agency 707-964-6331\, Sport Dodge 707-964-5915 or Harvest Market</div></div></div></blockquote><div><div lang="EN-US"><div></div></div></div></p>
LOCATION:Fort Bragg Fire House Fort Bragg CA
UID:e.2883.381
SEQUENCE:3
DTSTAMP:20260422T200405Z
URL:https://mendocinocoast.com/events/details/fort-bragg-rotary-mendocino-coast-sports-foundation-crab-feed-11-22-2014-381
END:VEVENT

END:VCALENDAR
