BEGIN:VCALENDAR
VERSION:2.0
PRODID:-//ChamberMaster//Event Calendar 2.0//EN
METHOD:PUBLISH
X-PUBLISHED-TTL:P3D
REFRESH-INTERVAL:P3D
CALSCALE:GREGORIAN
BEGIN:VEVENT
DTSTART;VALUE=DATE:20140301
DTEND;VALUE=DATE:20140302
TRANSP:TRANSPARENT
X-MICROSOFT-CDO-ALLDAYEVENT:TRUE
SUMMARY:Fort Bragg Library Community Meeting
DESCRIPTION:Fort Bragg Library Community Meeting. The Mendocino County Library wants to hear from you! tell us your thoughts about the future direction of the library\, what's working\, what's not working\, and what we could offer that we are not offering now. Everyone welcome. Refreshments will be served. 6 - 8 pm. For further info contact Wally Clark at 964-2020
X-ALT-DESC;FMTTYPE=text/html:<p>Fort Bragg Library Community Meeting. The Mendocino County Library wants to hear from you! tell us your thoughts about the future direction of the library\, what's working\, what's not working\, and what we could offer that we are not offering now. Everyone welcome. Refreshments will be served. 6 - 8 pm. For further info contact Wally Clark at 964-2020</p>
LOCATION:Fort Bragg Library Community Room
UID:e.2883.164
SEQUENCE:3
DTSTAMP:20260423T113618Z
URL:https://mendocinocoast.com/events/details/fort-bragg-library-community-meeting-03-01-2014-164
END:VEVENT

END:VCALENDAR
