BEGIN:VCALENDAR
VERSION:2.0
PRODID:-//ChamberMaster//Event Calendar 2.0//EN
METHOD:PUBLISH
X-PUBLISHED-TTL:P3D
REFRESH-INTERVAL:P3D
CALSCALE:GREGORIAN
BEGIN:VEVENT
DTSTART:20150129T000000Z
DTEND:20150129T020000Z
X-MICROSOFT-CDO-ALLDAYEVENT:FALSE
SUMMARY:Fort Bragg Indoor Farmers Market
DESCRIPTION:Fort Bragg Indoor Farmers Market is every Wednesday afternoon in the Fort Bragg Recreation Center\, 213 East Laurel Street\, Fort Bragg\, from 3 - 5 pm.
X-ALT-DESC;FMTTYPE=text/html:<p>Fort Bragg Indoor Farmers Market is every Wednesday afternoon in the Fort Bragg Recreation Center\, 213 East Laurel Street\, Fort Bragg\, from 3 - 5 pm.</p>
LOCATION:Fort Bragg Recreation Center Fort Bragg CA
UID:e.2883.471
SEQUENCE:3
DTSTAMP:20260422T163934Z
URL:https://mendocinocoast.com/events/details/fort-bragg-indoor-farmers-market-01-28-2015-471
END:VEVENT

END:VCALENDAR
