BEGIN:VCALENDAR
VERSION:2.0
PRODID:-//ChamberMaster//Event Calendar 2.0//EN
METHOD:PUBLISH
X-PUBLISHED-TTL:P3D
REFRESH-INTERVAL:P3D
CALSCALE:GREGORIAN
BEGIN:VEVENT
DTSTART;VALUE=DATE:20140806
DTEND;VALUE=DATE:20140807
TRANSP:TRANSPARENT
X-MICROSOFT-CDO-ALLDAYEVENT:TRUE
SUMMARY:Fort Bragg Footlighters Presents " A STAR IS BORN.....REEAAALLLLY?
DESCRIPTION:We are a small town theater group specializing in melodrama/comedy productions. We encourage audience participatingby cheering the hero\, applauding the heroine\, and booing the villian so join us in a sing along and tell a friend!Our show appeals to the young and old and we specialize in "Old fashioned entertainment"
X-ALT-DESC;FMTTYPE=text/html:<p><span>We are a small town theater group specializing in melodrama/comedy productions. We encourage audience participating</span></p><p><span>by cheering the hero\, applauding the heroine\, and booing the villian so join us in a sing along and tell a friend!</span></p><p><span>Our show appeals to the young and old and we specialize in "Old fashioned entertainment"</span></p>
LOCATION:Footlighters Theater Fort Bragg
UID:e.2883.304
SEQUENCE:3
DTSTAMP:20260423T011319Z
URL:https://mendocinocoast.com/events/details/fort-bragg-footlighters-presents-a-star-is-born-reeaaalllly-08-06-2014-304
END:VEVENT

END:VCALENDAR
