BEGIN:VCALENDAR
VERSION:2.0
PRODID:-//ChamberMaster//Event Calendar 2.0//EN
METHOD:PUBLISH
X-PUBLISHED-TTL:P3D
REFRESH-INTERVAL:P3D
CALSCALE:GREGORIAN
BEGIN:VEVENT
DTSTART:20160117T190000Z
DTEND:20160117T130100Z
X-MICROSOFT-CDO-ALLDAYEVENT:FALSE
SUMMARY:For the Love of Jewelry
DESCRIPTION:PARTNERS GALLERYâ€œFOR THE LOVE OF JEWELRYâ€Â February 4 â€“ 28First Friday Reception for the Artists\, February 5\, 5-8pmÂ Partners Gallery is hosting a special jewelry show for the month of February\, 2016. The gallery currently represents 12 contemporary jewelers and is inviting a few additional artists for this show.Â Visitors can find a feast for the eyes in pieces made from silk cocoons\, vegetable parchment\, inlaid beachstones\, laser-cut leather\, copper enamel\, precious metal clay and fossilized bone. There will be works made of gold\, silver\, copper and bronze as well as variety of beautiful and unusual gemstones.Â Partners Gallery is located at 335N. Franklin Street in Fort Bragg and is open Wednesday through Monday 10 am to 5 pm and Sundays 10 am to 4 pm.707 962-0233Â  http://www.partnersgallery.com
X-ALT-DESC;FMTTYPE=text/html:<p>PARTNERS GALLERY</p><p>â€œFOR THE LOVE OF JEWELRYâ€</p><p>Â </p><p>February 4 â€“ 28</p><p>First Friday Reception for the Artists\, February 5\, 5-8pm</p><p>Â </p><p>Partners Gallery is hosting a special jewelry show for the month of February\, 2016. The gallery currently represents 12 contemporary jewelers and is inviting a few additional artists for this show.</p><p>Â </p><p>Visitors can find a feast for the eyes in pieces made from silk cocoons\, vegetable parchment\, inlaid beachstones\, laser-cut leather\, copper enamel\, precious metal clay and fossilized bone. There will be works made of gold\, silver\, copper and bronze as well as variety of beautiful and unusual gemstones.</p><p>Â </p><p>Partners Gallery is located at 335N. Franklin Street in Fort Bragg and is open Wednesday through Monday 10 am to 5 pm and Sundays 10 am to 4 pm.</p><p>707 962-0233Â  <a href="http://www.partnersgallery.com">http://www.partnersgallery.com</a>&gt\;</p>
LOCATION:Partners Gallery Fort Bragg
UID:e.2883.837
SEQUENCE:3
DTSTAMP:20260421T211441Z
URL:https://mendocinocoast.com/events/details/for-the-love-of-jewelry-01-17-2016-837
END:VEVENT

END:VCALENDAR
