BEGIN:VCALENDAR
VERSION:2.0
PRODID:-//ChamberMaster//Event Calendar 2.0//EN
METHOD:PUBLISH
X-PUBLISHED-TTL:P3D
REFRESH-INTERVAL:P3D
CALSCALE:GREGORIAN
BEGIN:VEVENT
DTSTART;VALUE=DATE:20140305
DTEND;VALUE=DATE:20140306
TRANSP:TRANSPARENT
X-MICROSOFT-CDO-ALLDAYEVENT:TRUE
SUMMARY:"FOOTLOOSE"
DESCRIPTION:"FOOTLOOSE" The Musical\, presented by the FBHS Drama Club. At Cotton Auditorium on March 28th through April 6th\, Fri-Sat @ 7 pm Sunday @ 2 pm $10.00 Â "Come kick off your Sunday shoes!"
X-ALT-DESC;FMTTYPE=text/html:<p>"FOOTLOOSE" The Musical\, presented by the FBHS Drama Club. At Cotton Auditorium on March 28th through April 6th\, Fri-Sat @ 7 pm Sunday @ 2 pm $10.00 Â "Come kick off your Sunday shoes!"</p>
LOCATION:Cotton Auditorium Fort Bragg
UID:e.2883.168
SEQUENCE:3
DTSTAMP:20260423T113455Z
URL:https://mendocinocoast.com/events/details/footloose-03-05-2014-168
END:VEVENT

END:VCALENDAR
