BEGIN:VCALENDAR
VERSION:2.0
PRODID:-//ChamberMaster//Event Calendar 2.0//EN
METHOD:PUBLISH
X-PUBLISHED-TTL:P3D
REFRESH-INTERVAL:P3D
CALSCALE:GREGORIAN
BEGIN:VEVENT
DTSTART:20150219T170000Z
DTEND:20150220T010000Z
X-MICROSOFT-CDO-ALLDAYEVENT:FALSE
SUMMARY:Food Safety Manager Certification Class (Serve Safe)
DESCRIPTION:State law requires that a minimum of one person be certified as a Food Protection Manager. This event is an all-day\, instructor led class followed by the Exam. For registration please sign up through a Training Company's website:http://www.atrainingcompany.com/event/fort-bragg-public-class-servsafe-manager-class-3/Monday\, March 16th\, 9-5.At West Company\, 760 B. Stewart St. Price $139
X-ALT-DESC;FMTTYPE=text/html:<p>State law requires that a minimum of one person be certified as a Food Protection Manager. This event is an all-day\, instructor led class followed by the Exam. For registration please sign up through a Training Company's website:</p><table border="0" cellspacing="0" cellpadding="0" width="100%" bgcolor="#ffffff"><tbody><tr><td width="100%" align="center" valign="top"><table border="0" cellspacing="0" cellpadding="0" width="100%"><tbody><tr><td align="center" valign="top"><table border="0" cellspacing="0" cellpadding="0" width="100%" bgcolor="#FFFFFF"><tbody><tr><td width="100%" align="center" valign="top"><table border="0" cellspacing="0" cellpadding="0" width="100%"><tbody><tr><td width="100%" align="center" valign="top"><table border="0" cellspacing="0" cellpadding="0" width="100%"><tbody><tr><td align="center" valign="top"><table border="0" cellspacing="0" cellpadding="0" width="1"><tbody><tr><td width="100%" align="center" valign="top"><table id="content_LETTER.BLOCK43" border="0" cellspacing="0" cellpadding="0" width="100%"><tbody><tr><td align="left" valign="top"><div><p><a href="http://r20.rs6.net/tn.jsp?f=0017aXBXs2H-eCMNhQgWN0O-Pne4XKQHHTKySMBFzPnf1KUlFrwPVtJcUVjBoNQNDiElZhV2tySGaDFa-aE6E_vtqKGWaBxkNZGWldjfHP7Rnz2WmwxD0TEThSX0y-xyVJfTU2buwByPZZRCJjV6Jet0g_xlzJXANKaDRLtLvsRczBK1SJgvb465x9GYr_vqM1y0roPMdc52rgFM4aDWhJkz6Bchp2UW9xzccU2K5GpysPHo2AurRNx79kM7sNYlE8du3KBULgC4CY=&amp\;c=6yjhs9S7kZs0OXE0Wqjt4A3bGg7tHeNCApxE218WRyMX3PidKLdg8g==&amp\;ch=XXiKM-TvaQvQw8ITq0cDrZeQC_V0g4q3NRMOTN-UZWaT1n-7qUO7cQ==" target="_blank">http://www.atrainingcompany.com/event/fort-bragg-public-class-servsafe-manager-class-3/</a></p></div></td></tr></tbody></table></td></tr></tbody></table></td></tr></tbody></table></td></tr></tbody></table></td></tr></tbody></table></td></tr></tbody></table></td></tr></tbody></table><p>Monday\, March 16th\, 9-5.</p><p>At West Company\, 760 B. Stewart St. Price $139</p>
LOCATION:West Company Fort Bragg\, CA
UID:e.2883.527
SEQUENCE:3
DTSTAMP:20260422T152151Z
URL:https://mendocinocoast.com/events/details/food-safety-manager-certification-class-serve-safe-02-19-2015-527
END:VEVENT

END:VCALENDAR
