BEGIN:VCALENDAR
VERSION:2.0
PRODID:-//ChamberMaster//Event Calendar 2.0//EN
METHOD:PUBLISH
X-PUBLISHED-TTL:P3D
REFRESH-INTERVAL:P3D
CALSCALE:GREGORIAN
BEGIN:VEVENT
DTSTART;VALUE=DATE:20160726
DTEND;VALUE=DATE:20160727
TRANSP:TRANSPARENT
X-MICROSOFT-CDO-ALLDAYEVENT:TRUE
SUMMARY:First Friday Free Literary Event
DESCRIPTION:The 27th Annual Mendocino Coast Writers Conference (MCWC) invites the public to a free â€œFirst Fridayâ€ literary event from 5:30 to 7:30 PM on August 5th at Fort Braggâ€™s Town Hall (corner of Main and Laurel). Open to all ages and family friendly\, the evening will include readings by visiting authors Les Standiford\, Reyna Grande\, Lori Ostlund and Laura Atkins. Refreshments will be provided courtesy of MCWC\, North Coast Brewing Company and Frey Vineyards. Books available for purchase & autograph thanks to Gallery Bookshop.Les Standiford has received the Barnes & Noble Discover Great New Writers Award\, the Frank O'Connor Award for Short Fiction\, and Fellowships from the National Endowment for the Arts and the National Endowment for the Humanities. His most recent nonfiction title is Water to the Angels.Reyna Grandeâ€™s memoir\, The Distance Between Us\, about her life before and after illegally crossing from Mexico to the United States as a child\, was hailed by the L.A. Times as â€˜the Angelaâ€™s Ashes of the modern Mexican immigrant experience.â€™ Grandeâ€™s first novel\, Across a Hundred Mountains\, received a 2007 American Book Award\, and the 2006 El Premio AztlÃ¡n Literary Award.Lori Ostlundâ€™s novel After the Parade (Scribner\, 2015) is a Barnes and Noble Discover pick. Her first book\, a story collection entitled The Bigness of the World\, won the Flannery Oâ€™Connor Award\, the Edmund White Debut Fiction Award\, and the California Book Award for First Fiction.Laura Atkins is an author\, teacher and independent childrenâ€™s book editor. Forthcoming books include a light-hearted picture book Sled Dog Dachshund and a middle grade biography\, Fred Korematsu Speaks Up about Japanese internment during WW2.
X-ALT-DESC;FMTTYPE=text/html:<p>The 27th Annual Mendocino Coast Writers Conference (MCWC) invites the public to a free â€œFirst Fridayâ€ literary event from 5:30 to 7:30 PM on August 5th at Fort Braggâ€™s Town Hall (corner of Main and Laurel). Open to all ages and family friendly\, the evening will include readings by visiting authors Les Standiford\, Reyna Grande\, Lori Ostlund and Laura Atkins. Refreshments will be provided courtesy of MCWC\, North Coast Brewing Company and Frey Vineyards. Books available for purchase &amp\; autograph thanks to Gallery Bookshop.</p><p><strong>Les Standiford</strong> has received the Barnes &amp\; Noble Discover Great New Writers Award\, the Frank O'Connor Award for Short Fiction\, and Fellowships from the National Endowment for the Arts and the National Endowment for the Humanities. His most recent nonfiction title is <em>Water to the Angels</em>.</p><p><strong>Reyna Grandeâ€™s</strong> memoir\, <em>The Distance Between Us</em>\, about her life before and after illegally crossing from Mexico to the United States as a child\, was hailed by the L.A. Times as â€˜the Angelaâ€™s Ashes of the modern Mexican immigrant experience.â€™ Grandeâ€™s first novel\, <em>Across a Hundred</em> <em>Mountains</em>\, received a 2007 American Book Award\, and the 2006 El Premio AztlÃ¡n Literary Award.</p><p><strong>Lori Ostlundâ€™s</strong> novel <em>After the Parade</em> (Scribner\, 2015) is a Barnes and Noble Discover pick. Her first book\, a story collection entitled <em>The Bigness of the World</em>\, won the Flannery Oâ€™Connor Award\, the Edmund White Debut Fiction Award\, and the California Book Award for First Fiction.</p><p><strong>Laura Atkins</strong> is an author\, teacher and independent childrenâ€™s book editor. Forthcoming books include a light-hearted picture book <em>Sled Dog Dachshund</em> and a middle grade biography\, <em>Fred Korematsu Speaks Up</em> about Japanese internment during WW2.</p>
LOCATION:Town Hall\, Corner of Laurel & Main Fort Bragg
UID:e.2883.982
SEQUENCE:3
DTSTAMP:20260419T160115Z
URL:https://mendocinocoast.com/events/details/first-friday-free-literary-event-07-26-2016-982
END:VEVENT

END:VCALENDAR
