BEGIN:VCALENDAR
VERSION:2.0
PRODID:-//ChamberMaster//Event Calendar 2.0//EN
METHOD:PUBLISH
X-PUBLISHED-TTL:P3D
REFRESH-INTERVAL:P3D
CALSCALE:GREGORIAN
BEGIN:VEVENT
DTSTART:20151201T140000Z
DTEND:20151201T180000Z
X-MICROSOFT-CDO-ALLDAYEVENT:FALSE
SUMMARY:First Friday Art Walk
DESCRIPTION:On the first Friday of each month\, Fort Bragg art galleries are open late for special exhibits\, refreshment and entertainment. At Erin Dertner Studio we are having a sale on small origial artwork and prints. Bundle up and come celebrate the season with us Friday evening and enjoy the beautiful lights on Laurel Street in downtown Fort Bragg. Free admission. 5-8 pm.
X-ALT-DESC;FMTTYPE=text/html:<p>On the first Friday of each month\, Fort Bragg art galleries are open late for special exhibits\, refreshment and entertainment. At Erin Dertner Studio we are having a sale on small origial artwork and prints. Bundle up and come celebrate the season with us Friday evening and enjoy the beautiful lights on Laurel Street in downtown Fort Bragg. Free admission. 5-8 pm.</p>
LOCATION:Erin Dertner Studio Fort Bragg
UID:e.2883.803
SEQUENCE:3
DTSTAMP:20260421T223233Z
URL:https://mendocinocoast.com/events/details/first-friday-art-walk-12-01-2015-803
END:VEVENT

END:VCALENDAR
