BEGIN:VCALENDAR
VERSION:2.0
PRODID:-//ChamberMaster//Event Calendar 2.0//EN
METHOD:PUBLISH
X-PUBLISHED-TTL:P3D
REFRESH-INTERVAL:P3D
CALSCALE:GREGORIAN
BEGIN:VEVENT
DTSTART:20140509T041400Z
DTEND:20140509T051600Z
X-MICROSOFT-CDO-ALLDAYEVENT:FALSE
SUMMARY:Fireworks in Fort Bragg
DESCRIPTION:After the World's Largest Salmon BBQ come see the spectacular fireworks display over the Pacific.\nThe annual fireworks show attracts hundreds of locals and visitors to see the explosion of light and color over Pomo Bluffs Park (also called Todd Point) in Fort Bragg.Show up early to get a good parking spot and be sure to bring blankets and snacks â€“ the event is packed. Fireworks can be viewed from the park\, the parking lots\, College of The Redwoods\, Noyo Beach\, the Noyo Bridge and other spots on the south end of town.This favorite annual event is sponsored by City of Fort Bragg and the Fort Bragg Promotion Committee.
X-ALT-DESC;FMTTYPE=text/html:<p style="text-align: center\;"><strong><span style="font-size: x-small\;">After the World's Largest Salmon BBQ come see the spectacular fireworks display over the Pacific.</span></strong></p><p style="text-align: center\;"><strong><span style="font-size: x-small\;"><br /></span></strong></p><p>The annual fireworks show attracts hundreds of locals and visitors to see the explosion of light and color over Pomo Bluffs Park (also called Todd Point) in Fort Bragg.</p><p>Show up early to get a good parking spot and be sure to bring blankets and snacks â€“ the event is packed. Fireworks can be viewed from the park\, the parking lots\, College of The Redwoods\, Noyo Beach\, the Noyo Bridge and other spots on the south end of town.</p><p>This favorite annual event is sponsored by City of Fort Bragg and the Fort Bragg Promotion Committee.</p><p style="text-align: center\;"><strong><span style="font-size: x-small\;"><br /></span></strong></p>
LOCATION:Fort Bragg Fire Station N. Main Street
UID:e.2883.260
SEQUENCE:3
DTSTAMP:20260423T095859Z
URL:https://mendocinocoast.com/events/details/fireworks-in-fort-bragg-05-08-2014-260
END:VEVENT

END:VCALENDAR
