BEGIN:VCALENDAR
VERSION:2.0
PRODID:-//ChamberMaster//Event Calendar 2.0//EN
METHOD:PUBLISH
X-PUBLISHED-TTL:P3D
REFRESH-INTERVAL:P3D
CALSCALE:GREGORIAN
BEGIN:VEVENT
DTSTART:20140703T040000Z
DTEND:20140703T083000Z
X-MICROSOFT-CDO-ALLDAYEVENT:FALSE
SUMMARY:Fireman's Ball
DESCRIPTION:95th Annual Fort Bragg Volunteer Fire Department "Fireman's Ball"Music provided by DJ Lot10 SoundBar Service Available-21 & Over
X-ALT-DESC;FMTTYPE=text/html:<p>95th Annual Fort Bragg Volunteer Fire Department "Fireman's Ball"</p><p>Music provided by DJ Lot10 Sound</p><p>Bar Service Available-21 &amp\; Over</p>
LOCATION:Pentecost Hall Fort Bragg
UID:e.2883.285
SEQUENCE:3
DTSTAMP:20260423T023310Z
URL:https://mendocinocoast.com/events/details/fireman-s-ball-07-02-2014-285
END:VEVENT

END:VCALENDAR
