BEGIN:VCALENDAR
VERSION:2.0
PRODID:-//ChamberMaster//Event Calendar 2.0//EN
METHOD:PUBLISH
X-PUBLISHED-TTL:P3D
REFRESH-INTERVAL:P3D
CALSCALE:GREGORIAN
BEGIN:VEVENT
DTSTART:20150128T190000Z
DTEND:20150129T030000Z
X-MICROSOFT-CDO-ALLDAYEVENT:FALSE
SUMMARY:Fine Woodworker Mid Winter Show
DESCRIPTION:The College of the Redwoods Fine Woodworking Program will hold their 26th annual mid-winter show January 30th to February 8th. Due to the construction work on Town Hall this yearâ€™s show will hosted in the new studio space at Pacific Textile Arts (450 Alger Street\, Fort Bragg). The show will be open from 10 to 6 daily\, with the reception on First Friday\, February 6t from 5 to 8pm. Pacific Textile Arts is located next door to the woodworkers shop on Alger Street\, behind the Middle School soccer field.
X-ALT-DESC;FMTTYPE=text/html:<p>The College of the Redwoods Fine Woodworking Program will hold their 26th annual mid-winter show January 30th to February 8th. Due to the construction work on Town Hall this yearâ€™s show will hosted in the new studio space at Pacific Textile Arts (450 Alger Street\, Fort Bragg). The show will be open from 10 to 6 daily\, with the reception on First Friday\, February 6t from 5 to 8pm. Pacific Textile Arts is located next door to the woodworkers shop on Alger Street\, behind the Middle School soccer field.</p>
LOCATION:Pacific Textile Arts Fort Bragg\, CA
UID:e.2883.476
SEQUENCE:3
DTSTAMP:20260422T163608Z
URL:https://mendocinocoast.com/events/details/fine-woodworker-mid-winter-show-01-28-2015-476
END:VEVENT

END:VCALENDAR
