BEGIN:VCALENDAR
VERSION:2.0
PRODID:-//ChamberMaster//Event Calendar 2.0//EN
METHOD:PUBLISH
X-PUBLISHED-TTL:P3D
REFRESH-INTERVAL:P3D
CALSCALE:GREGORIAN
BEGIN:VEVENT
DTSTART:20150424T080000Z
DTEND:20150424T120000Z
X-MICROSOFT-CDO-ALLDAYEVENT:FALSE
SUMMARY:Fiesta!
DESCRIPTION:FIESTA is coming May 17th!Fiesta is a community party featuring an afternoon of food\, music\, art activities\, and fun that raises money to support the work of the Community Center of Mendocino.  It happens Sunday\, May 17th from 1 to 5 pm at the Center on the corner of School Street and Pine in Mendocino.Â The afternoon will feature a festive Mexican lunch and dessert station with treats donated by some of the coastâ€™s best bakers. Quarteto Pura Vida will play their spirited and danceable Latin-inspired sounds on the main stage. Dance instructor Laura Sloane will be on hand to teach everyone some salsa moves. There will be plenty of activities for children\, including a tour of the Childrenâ€™s Garden\, where little ones can get their hands dirty with instructor Nicole Trevino. New this year is the Cantina\, where beer\, wine\, and sangria will be available. Enjoy demonstrations of circus silks\, Taiko drumming\, and saber fencing. This yearâ€™s silent auction will feature skills and services offered by community members. Â Admission to this event is free\; lunch can be purchased for $15/adults\, $7/ children. Â The Community Center of Mendocino is a 501(c)(3) nonprofit organization that provides after-school enrichment classes\, homework club\, sports camps\, summer programs for children\, and activities for toddlers\, teens\, adults\, and seniors. CCM does not receive any tax funding or other public support\, and operates solely on program revenues\, room rental fees\, and your generous contributions. Find out more at ccmendo.org.Â Celebrate community! Attend this joyous event and help support YOUR Community Center!Â Â
X-ALT-DESC;FMTTYPE=text/html:<p style="margin-bottom:.27in\;line-height:.27in\;"><span style="font-size:medium\;"><strong><span style="font-family:Cambria\, serif\;">FIESTA is coming May 17</span></strong><strong><sup><span style="font-family:Cambria\, serif\;">th</span></sup></strong><strong><span style="font-family:Cambria\, serif\;">!</span></strong></span></p><p style="margin-bottom:0in\;"><span style="font-family:Consolas\, serif\;font-size:small\;"><span style="font-family:&quot\;Century Gothic&quot\;\, serif\;">Fiesta is a community party featuring an afternoon of food\, music\, art activities\, and fun that raises money to support the work of the Community Center of Mendocino.  It happens Sunday\, May 17</span><sup><span style="font-family:&quot\;Century Gothic&quot\;\, serif\;">th</span></sup><span style="font-family:&quot\;Century Gothic&quot\;\, serif\;"> from 1 to 5 pm at the Center on the corner of School Street and Pine in Mendocino.</span></span></p><p style="margin-bottom:0in\;">Â </p><p style="margin-bottom:0in\;"><span style="font-family:Consolas\, serif\;font-size:small\;"><span style="font-family:&quot\;Century Gothic&quot\;\, serif\;">The afternoon will feature a festive Mexican lunch and dessert station with treats donated by some of the coastâ€™s best bakers. Quarteto Pura Vida will play their spirited and danceable Latin-inspired sounds on the main stage. Dance instructor Laura Sloane will be on hand to teach everyone some salsa moves. There will be plenty of activities for children\, including a tour of the Childrenâ€™s Garden\, where little ones can get their hands dirty with instructor Nicole Trevino. New this year is the Cantina\, where beer\, wine\, and sangria will be available. Enjoy demonstrations of circus silks\, Taiko drumming\, and saber fencing. </span><span style="font-family:&quot\;Century Gothic&quot\;\, serif\;">This yearâ€™s silent auction will feature skills and services offered by community members. </span></span></p><p style="margin-bottom:0in\;">Â </p><p style="margin-bottom:0in\;background:#ffffff\;"><span style="font-family:&quot\;Century Gothic&quot\;\, serif\;font-size:small\;">Admission to this event is free\; lunch can be purchased for $15/adults\, $7/ children. </span></p><p style="margin-bottom:0in\;background:#ffffff\;">Â </p><p style="margin-bottom:0in\;"><span style="font-family:&quot\;Century Gothic&quot\;\, serif\;font-size:small\;">The Community Center of Mendocino is a 501(c)(3) nonprofit organization that provides after-school enrichment classes\, homework club\, sports camps\, summer programs for children\, and activities for toddlers\, teens\, adults\, and seniors. CCM does not receive any tax funding or other public support\, and operates solely on program revenues\, room rental fees\, and your generous contributions. Find out more at ccmendo.org.</span></p><p style="margin-bottom:0in\;">Â </p><p style="margin-bottom:0in\;"><span style="color:#000000\;font-size:small\;"><span style="font-family:&quot\;Century Gothic&quot\;\, serif\;">Celebrate community! Attend this joyous event and help support YOUR Community Center!</span></span></p><p style="margin-bottom:0in\;">Â </p><p style="margin-bottom:0in\;">Â </p>
LOCATION:Community Center of Mendocino Mendocino\, CA
UID:e.2883.616
SEQUENCE:3
DTSTAMP:20260422T114633Z
URL:https://mendocinocoast.com/events/details/fiesta-04-24-2015-616
END:VEVENT

END:VCALENDAR
