BEGIN:VCALENDAR
VERSION:2.0
PRODID:-//ChamberMaster//Event Calendar 2.0//EN
METHOD:PUBLISH
X-PUBLISHED-TTL:P3D
REFRESH-INTERVAL:P3D
CALSCALE:GREGORIAN
BEGIN:VEVENT
DTSTART;VALUE=DATE:20140227
DTEND;VALUE=DATE:20140228
TRANSP:TRANSPARENT
X-MICROSOFT-CDO-ALLDAYEVENT:TRUE
SUMMARY:FIESTA
DESCRIPTION:Â FIESTA\nItâ€™s FIESTA time at the Community Center of Mendocino\, Sunday\, March 23\, 1:00â€“5pm. Â Come celebrate the spirit of community and enjoy a great Mexican buffet and an afternoon of music and fun with your friends and neighbors. Tickets are $15 for adults\, $7 for children. Â Advance tickets available at the Community Center\, 998 School Street\, in Mendocino\, 937-4133.
X-ALT-DESC;FMTTYPE=text/html:<p>Â </p><blockquote><div>FIESTA<br />Itâ€™s FIESTA time at the Community Center of Mendocino\, Sunday\, March 23\, 1:00â€“5pm. Â Come celebrate the spirit of community and enjoy a great Mexican buffet and an afternoon of music and fun with your friends and neighbors. Tickets are $15 for adults\, $7 for children. Â Advance tickets available at the Community Center\, 998 School Street\, in Mendocino\, 937-4133.</div></blockquote>
LOCATION:Community Center of Mendocino
UID:e.2883.159
SEQUENCE:3
DTSTAMP:20260423T131322Z
URL:https://mendocinocoast.com/events/details/fiesta-02-27-2014-159
END:VEVENT

END:VCALENDAR
