BEGIN:VCALENDAR
VERSION:2.0
PRODID:-//ChamberMaster//Event Calendar 2.0//EN
METHOD:PUBLISH
X-PUBLISHED-TTL:P3D
REFRESH-INTERVAL:P3D
CALSCALE:GREGORIAN
BEGIN:VEVENT
DTSTART:20140422T030100Z
DTEND:20140422T050000Z
X-MICROSOFT-CDO-ALLDAYEVENT:FALSE
SUMMARY:Festival Orchestra and Chorus at Mendocino Music Festivall
DESCRIPTION:Saturday\, July 26\, 2014\, 8:00 PMTent Concert HallThe final orchestral concert of great choral works by Haydn and Bach will provide a fitting climax to the Festival.  Handelâ€™s Royal Fireworks for orchestra alone will precede Bachâ€™s Cantata #51 and Haydnâ€™s Creation\, sung by large choir and soloists. There is nothing as inspirational as hearing a powerful choir giving heartfelt voice to these sacred texts. A concert to warm the hearts and uplift and soothe the spirits of the entire audience.Mendocino Music Festival runs July 12 - 26. More information: www.MendocinoMusic.org  707 937-2044
X-ALT-DESC;FMTTYPE=text/html:Saturday\, July 26\, 2014\, 8:00 PMTent Concert HallThe final orchestral concert of great choral works by Haydn and Bach will provide a fitting climax to the Festival.  Handelâ€™s Royal Fireworks for orchestra alone will precede Bachâ€™s Cantata #51 and Haydnâ€™s Creation\, sung by large choir and soloists. There is nothing as inspirational as hearing a powerful choir giving heartfelt voice to these sacred texts. A concert to warm the hearts and uplift and soothe the spirits of the entire audience.Mendocino Music Festival runs July 12 - 26. More information: www.MendocinoMusic.org  707 937-2044
LOCATION:16\,000 square foot Tent Performance Hall on the Mendocino Headlands State Park
UID:e.2883.237
SEQUENCE:3
DTSTAMP:20260423T100436Z
URL:https://mendocinocoast.com/events/details/festival-orchestra-and-chorus-at-mendocino-music-festivall-04-21-2014-237
END:VEVENT

END:VCALENDAR
