BEGIN:VCALENDAR
VERSION:2.0
PRODID:-//ChamberMaster//Event Calendar 2.0//EN
METHOD:PUBLISH
X-PUBLISHED-TTL:P3D
REFRESH-INTERVAL:P3D
CALSCALE:GREGORIAN
BEGIN:VEVENT
DTSTART;VALUE=DATE:20151203
DTEND;VALUE=DATE:20151204
TRANSP:TRANSPARENT
X-MICROSOFT-CDO-ALLDAYEVENT:TRUE
SUMMARY:Festival of Lights at Mendocino Coast Botanical Gardens
DESCRIPTION:6th Annual Festival of LightsFridays\, Saturdays\, and Sundays\nNovember 27â€“December 20\, 2015Â \n5:00 pm â€“ 7:30 pmJoin us at Mendocino Coast Botanical Gardens for whimsical lighted displays and much moreâ€¦ Live music every night in the beautifully decorated big tent\, Holiday Sweets CafÃ©\, wine\, hot cocoa\, hot cider\, and marshmallows at the camp fire. This year Santa Claus will be visiting on Nov 27\, Dec 12\, and Dec 18! Family fun for young and old. Dress for winter. No pets\, please. $10.00 for adults\, children age 16 and under are FREE.Â Visit our website for info on musical acts and more details on each eveningâ€™s attractions â€“ www.gardenbythesea.orgÂ
X-ALT-DESC;FMTTYPE=text/html:<p style="text-align:center\;"><span style="font-size:medium\;"><strong>6th Annual Festival of Lights</strong></span></p><p style="text-align:center\;"><span style="font-size:small\;"><strong>Fridays\, Saturdays\, and Sundays<br /></strong></span><strong style="font-size:small\;">November 27â€“December 20\, 2015Â <br /></strong><strong style="font-size:small\;">5:00 pm â€“ 7:30 pm</strong></p><p><span style="font-size:small\;">Join us at Mendocino Coast Botanical Gardens for whimsical lighted displays and much moreâ€¦ Live music every night in the beautifully decorated big tent\, Holiday Sweets CafÃ©\, wine\, hot cocoa\, hot cider\, and marshmallows at the camp fire. This year Santa Claus will be visiting on Nov 27\, Dec 12\, and Dec 18! Family fun for young and old. </span></p><p><em><strong><span style="font-size:small\;">Dress for winter. No pets\, please. </span></strong></em></p><p><span style="font-size:small\;">$10.00 for adults\, children age 16 and under are FREE.Â Visit our website for info on musical acts and more details on each eveningâ€™s attractions â€“ </span><a style="font-size:small\;" href="http://www.gardenbythesea.org/">www.gardenbythesea.org</a></p><p>Â </p>
LOCATION:Mendocino Coast Botanical Gardens Fort Bragg
UID:e.2883.807
SEQUENCE:3
DTSTAMP:20260422T001726Z
URL:https://mendocinocoast.com/events/details/festival-of-lights-at-mendocino-coast-botanical-gardens-12-03-2015-807
END:VEVENT

END:VCALENDAR
