BEGIN:VCALENDAR
VERSION:2.0
PRODID:-//ChamberMaster//Event Calendar 2.0//EN
METHOD:PUBLISH
X-PUBLISHED-TTL:P3D
REFRESH-INTERVAL:P3D
CALSCALE:GREGORIAN
BEGIN:VEVENT
DTSTART:20140422T220100Z
DTEND:20140422T233100Z
X-MICROSOFT-CDO-ALLDAYEVENT:FALSE
SUMMARY:Festival Chamber Players at Mendocino Music Festivall
DESCRIPTION:Thursday\, July 24\, 2014\, 3:00 PMPreston HallDelight in Mozartâ€™s Quintet in E flat Major for Piano and Winds K.452\, and the Schumann Quintet in E flat Major for Piano and Strings\, played by the world-class Festival Orchestraâ€™s principal players\, joined by pianists Miles Graber and Carolyn Steinbuck.Mozart wrote his only piano quintet at the height of his powers\, when he was 28 years old.  He had never before attempted a piece for such a combination of instruments: bassoon\, clarinet\, horn and oboe. He wrote to his father\, â€œI myself consider it to be the best thing I have written in my life.â€  For Schumann\, it was the first time a piano was combined with what is now known as a string quartet (substituting cello for double bass). The quintet is considered one of the major works of nineteenth century chamber music.The Mendocino Music Festival runs July 12 - 26. For more information: www.MendocinoMusic.org  707 937-2044
X-ALT-DESC;FMTTYPE=text/html:Thursday\, July 24\, 2014\, 3:00 PMPreston HallDelight in Mozartâ€™s Quintet in E flat Major for Piano and Winds K.452\, and the Schumann Quintet in E flat Major for Piano and Strings\, played by the world-class Festival Orchestraâ€™s principal players\, joined by pianists Miles Graber and Carolyn Steinbuck.Mozart wrote his only piano quintet at the height of his powers\, when he was 28 years old.  He had never before attempted a piece for such a combination of instruments: bassoon\, clarinet\, horn and oboe. He wrote to his father\, â€œI myself consider it to be the best thing I have written in my life.â€  For Schumann\, it was the first time a piano was combined with what is now known as a string quartet (substituting cello for double bass). The quintet is considered one of the major works of nineteenth century chamber music.The Mendocino Music Festival runs July 12 - 26. For more information: www.MendocinoMusic.org  707 937-2044
LOCATION:Preston Hall - adjacent to Mendocino Presbyterian Church
UID:e.2883.233
SEQUENCE:3
DTSTAMP:20260423T114352Z
URL:https://mendocinocoast.com/events/details/festival-chamber-players-at-mendocino-music-festivall-04-22-2014-233
END:VEVENT

END:VCALENDAR
