BEGIN:VCALENDAR
VERSION:2.0
PRODID:-//ChamberMaster//Event Calendar 2.0//EN
METHOD:PUBLISH
X-PUBLISHED-TTL:P3D
REFRESH-INTERVAL:P3D
CALSCALE:GREGORIAN
BEGIN:VEVENT
DTSTART:20150325T180000Z
DTEND:20150325T210000Z
X-MICROSOFT-CDO-ALLDAYEVENT:FALSE
SUMMARY:Family FUN Day @ Living Light Cafe
DESCRIPTION:First EVER Family FUN Day this Saturday\, March 28 from 11am to 2pm. Kids learn fun facts about fruits and veggies with games\, activity book\, mini-demos\, and sample tastes! Kids 5-10 and their parents. The Company Store\, Fort Bragg. Come join the fun!We'll also show you how easy and fun it is to sprout at home! Sprout demos\, sprouting kits\, organic sees and much more. Grow and enjoy - we'll show you how this Saturday.facebook.com/livinglightcafe
X-ALT-DESC;FMTTYPE=text/html:<p>First EVER Family FUN Day this Saturday\, March 28 from 11am to 2pm. Kids learn fun facts about fruits and veggies with games\, activity book\, mini-demos\, and sample tastes! Kids 5-10 and their parents. The Company Store\, Fort Bragg. Come join the fun!</p><p>We'll also show you how easy and fun it is to sprout at home! Sprout demos\, sprouting kits\, organic sees and much more. Grow and enjoy - we'll show you how this Saturday.</p><p><a href="facebook.com/livinglightcafe" target="_blank">facebook.com/livinglightcafe</a></p>
LOCATION:Living Light Cafe Fort Bragg
UID:e.2883.571
SEQUENCE:3
DTSTAMP:20260422T133706Z
URL:https://mendocinocoast.com/events/details/family-fun-day-living-light-cafe-03-25-2015-571
END:VEVENT

END:VCALENDAR
