BEGIN:VCALENDAR
VERSION:2.0
PRODID:-//ChamberMaster//Event Calendar 2.0//EN
METHOD:PUBLISH
X-PUBLISHED-TTL:P3D
REFRESH-INTERVAL:P3D
CALSCALE:GREGORIAN
BEGIN:VEVENT
DTSTART:20150219T190000Z
DTEND:20150220T010000Z
X-MICROSOFT-CDO-ALLDAYEVENT:FALSE
SUMMARY:"Equinox Show"
DESCRIPTION:â€œEQUINOXâ€ AT FOUR FORT BRAGG GALLERIESÂ "Equinox" is the theme for four local galleries this March\, Edgewater\, Northcoast\, Pacific Textile Arts\, and Partners. The shows open on First Friday March 6th with receptions at each gallery from 5 to 8 p.m.Â The Equinox is the first day of spring when night and day are of exactly equal length\, before the days grow longer into the summer. It's the time of growth\, of dark and light in harmony\, of opposites in perfect balance. Artists at each gallery will be showing their interpretations of this theme.Â  You can see clocks with art historical themes playing with the word "equinox"\, the pattern and play of dark and light in paint\, jewelry\, fabric\, and ceramics.Â  On view will be expressions of yin and yang\, sun and moon\, gold and silver apples\, and the transition of harsh Alaskan winter into spring.Â Artists are working with a wide variety of materials including quilting\, cloth\, encaustics\, beads\, silver and brass\, pencils\, pastels\, paint\, paper and thread\, and woven and printed textiles.Â The Equinox shows will be up through the month of March.Partners Gallery is located at 335N. Franklin Street in Fort Bragg and is open Wednesday through Monday 10 am to 5 pm and Sundays 10 am to 4 pm.707 962-0233Â  http://www.partnersgallery.com
X-ALT-DESC;FMTTYPE=text/html:<p>â€œEQUINOXâ€ AT FOUR FORT BRAGG GALLERIES</p><p>Â </p><p>"Equinox" is the theme for four local galleries this March\, Edgewater\, Northcoast\, Pacific Textile Arts\, and Partners. The shows open on First Friday March 6th with receptions at each gallery from 5 to 8 p.m.</p><p>Â </p><p>The Equinox is the first day of spring when night and day are of exactly equal length\, before the days grow longer into the summer. It's the time of growth\, of dark and light in harmony\, of opposites in perfect balance. Artists at each gallery will be showing their interpretations of this theme.Â  You can see clocks with art historical themes playing with the word "equinox"\, the pattern and play of dark and light in paint\, jewelry\, fabric\, and ceramics.Â  On view will be expressions of yin and yang\, sun and moon\, gold and silver apples\, and the transition of harsh Alaskan winter into spring.</p><p>Â </p><p>Artists are working with a wide variety of materials including quilting\, cloth\, encaustics\, beads\, silver and brass\, pencils\, pastels\, paint\, paper and thread\, and woven and printed textiles.</p><p>Â </p><p>The Equinox shows will be up through the month of March.</p><p>Partners Gallery is located at 335N. Franklin Street in Fort Bragg and is open Wednesday through Monday 10 am to 5 pm and Sundays 10 am to 4 pm.</p><p>707 962-0233Â  <a href="http://www.partnersgallery.com">http://www.partnersgallery.com</a>&gt\;</p>
LOCATION:Partners Gallery Forty Bragg
UID:e.2883.528
SEQUENCE:3
DTSTAMP:20260422T163357Z
URL:https://mendocinocoast.com/events/details/equinox-show-02-19-2015-528
END:VEVENT

END:VCALENDAR
