BEGIN:VCALENDAR
VERSION:2.0
PRODID:-//ChamberMaster//Event Calendar 2.0//EN
METHOD:PUBLISH
X-PUBLISHED-TTL:P3D
REFRESH-INTERVAL:P3D
CALSCALE:GREGORIAN
BEGIN:VEVENT
DTSTART:20150319T190000Z
DTEND:20150319T230000Z
X-MICROSOFT-CDO-ALLDAYEVENT:FALSE
SUMMARY:Emerald Dolphin's Easter Carnival
DESCRIPTION:Join us for a family day of fun and sun from Noon-4pm! Â Kids (0-16) golf for free all day with adult ticket\, Carnival Games for all ages to win prizes\, Bounce House\, (tickets avail for .50ea)\, Quarter Toss\, and fun games for kids! Â Bring your basket & come meet the Easter Bunny for the free Egg Hunt at 4pm sharp! Don't be late! Â
X-ALT-DESC;FMTTYPE=text/html:<p><strong>Join us for a family day of fun and sun from Noon-4pm! Â Kids (0-16) golf for free all day with adult ticket\, Carnival Games for all ages to win prizes\, Bounce House\, (tickets avail for .50ea)\, Quarter Toss\, and fun games for kids! Â Bring your basket &amp\; come meet the Easter Bunny for the free Egg Hunt at 4pm sharp! Don't be late! Â <br /></strong></p>
LOCATION:Emerald Dolphin Mini Golf FORT BRAGG
UID:e.2883.563
SEQUENCE:3
DTSTAMP:20260422T132608Z
URL:https://mendocinocoast.com/events/details/emerald-dolphin-s-easter-carnival-03-19-2015-563
END:VEVENT

END:VCALENDAR
