BEGIN:VCALENDAR
VERSION:2.0
PRODID:-//ChamberMaster//Event Calendar 2.0//EN
METHOD:PUBLISH
X-PUBLISHED-TTL:P3D
REFRESH-INTERVAL:P3D
CALSCALE:GREGORIAN
BEGIN:VEVENT
DTSTART;VALUE=DATE:20160219
DTEND;VALUE=DATE:20160220
TRANSP:TRANSPARENT
X-MICROSOFT-CDO-ALLDAYEVENT:TRUE
SUMMARY:Elk's 29th Annual Rummage Sale
DESCRIPTION:The Greenwood Civic Club will hold their 29th Annual Elk Rummage Sale on Saturday and Sunday\, April 2nd and 3rd from 10:00 a.m. to 4:00 p.m. at the Greenwood Community Center in downtown Elk. Discover antiques\, collectibles\, clothes\, books\, toys\, housewares\, furniture\, tools\, and more at bargain prices. Â Join theÂ â€œGreat Raceâ€Â Sunday afternoon - all you can stuff in a bag for $3.00. Â While shopping\, feast on baked goods\, drinks and home-made tempting lunch items. Proceeds from the annual event benefit community projects\, the summer childrenâ€™s program and student scholarships. Visit www.elkweb.org for more information.
X-ALT-DESC;FMTTYPE=text/html:<p><span style="font-size:small\;"><span style="font-size:small\;"><span style="font-size:medium\;">The Greenwood Civic Club will hold their 29th Annual Elk Rummage Sale on Saturday and Sunday\, April 2nd and 3rd from 10:00 a.m. to 4:00 p.m. at the Greenwood Community Center in downtown Elk. </span><span>Discover antiques\, collectibles\, clothes\, books\, toys\, housewares\, furniture\, tools\, and more at bargain prices. Â Join theÂ â€œGreat Raceâ€Â Sunday afternoon - all you can stuff in a bag for $3.00. Â While shopping\, feast on baked goods\, drinks and home-made tempting lunch items. </span><span>Proceeds from the annual event benefit community projects\, the summer childrenâ€™s program and student scholarships. Visit www.elkweb.org for more information.</span><br /></span></span></p>
LOCATION:Elk Community Center Elk\, Ca.
UID:e.2883.858
SEQUENCE:3
DTSTAMP:20260421T210340Z
URL:https://mendocinocoast.com/events/details/elk-s-29th-annual-rummage-sale-02-19-2016-858
END:VEVENT

END:VCALENDAR
