BEGIN:VCALENDAR
VERSION:2.0
PRODID:-//ChamberMaster//Event Calendar 2.0//EN
METHOD:PUBLISH
X-PUBLISHED-TTL:P3D
REFRESH-INTERVAL:P3D
CALSCALE:GREGORIAN
BEGIN:VEVENT
DTSTART;VALUE=DATE:20150221
DTEND;VALUE=DATE:20150222
TRANSP:TRANSPARENT
X-MICROSOFT-CDO-ALLDAYEVENT:TRUE
SUMMARY:Elk's 28th Annual Rummage Sale
DESCRIPTION:The Greenwood Civic Club invites you to take part in the 28th annual Elk Rummage Sale to be held Saturday and Sunday\, March 28th and 29th from 10:00 a.m. to 4:00 p.m. at the Greenwood Community Center in downtown Elk. Discover antiques\, collectibles\, clothes\, books\, toys\, housewares\, furniture\, tools\, and more at bargain prices. Join the Great Race Sunday afternoon - all you can stuff in a bag for $2.00. While shopping\, feast on baked goods\, drinks and home-made tempting lunch items. \n\nDonations in good condition are welcome before the sale and may be dropped off at the Greenwood Community Center in Elk March 25th and 26th between 10 a.m. and 3 p.m. For information or pickup assistance\, call Rae at 877-3224 or visit www.elkweb.org. The Greenwood Civic Club is a non-profit organization and all donations are tax deductible. Proceeds from the annual event benefit community projects\, the summer children's program and student scholarships.
X-ALT-DESC;FMTTYPE=text/html:<p><span>The Greenwood Civic Club invites you to take part in the 28th annual Elk Rummage Sale to be held Saturday and Sunday\, March 28th and 29th from 10:00 a.m. to 4:00 p.m. at the Greenwood Community Center in downtown Elk. Discover antiques\, collectibles\, clothes\, books\, toys\, housewares\, furniture\, tools\, and more at bargain prices. Join the Great Race Sunday afternoon - all you can stuff in a bag for $2.00. While shopping\, feast on baked goods\, drinks and home-made tempting lunch items. </span><br /><br /><span>Donations in good condition are welcome before the sale and may be dropped off at the Greenwood Community Center in Elk March 25th and 26th between 10 a.m. and 3 p.m. For information or pickup assistance\, call Rae at 877-3224 or visit </span><a href="http://www.elkweb.org./">www.elkweb.org.</a><span> The Greenwood Civic Club is a non-profit organization and all donations are tax deductible. Proceeds from the annual event benefit community projects\, the summer children's program and student scholarships.</span></p>
LOCATION:Greenwood Community Center Elk\, Ca.
UID:e.2883.547
SEQUENCE:3
DTSTAMP:20260422T163707Z
URL:https://mendocinocoast.com/events/details/elk-s-28th-annual-rummage-sale-02-21-2015-547
END:VEVENT

END:VCALENDAR
