BEGIN:VCALENDAR
VERSION:2.0
PRODID:-//ChamberMaster//Event Calendar 2.0//EN
METHOD:PUBLISH
X-PUBLISHED-TTL:P3D
REFRESH-INTERVAL:P3D
CALSCALE:GREGORIAN
BEGIN:VEVENT
DTSTART;VALUE=DATE:20150612
DTEND;VALUE=DATE:20150613
TRANSP:TRANSPARENT
X-MICROSOFT-CDO-ALLDAYEVENT:TRUE
SUMMARY:Eco Artists Show
DESCRIPTION:Mendocino Area Parks Association is delighted to announce the Eco Artists Show\, which benefits MAPA. It is titled "Loving Our Parks"\, and runs from June 1 to August 1. You are invited to the opening reception on Saturday\, June 12 from 3-5pm at Stanford Inn by the Sea
X-ALT-DESC;FMTTYPE=text/html:<p>Mendocino Area Parks Association is delighted to announce the Eco Artists Show\, which benefits MAPA. It is titled "Loving Our Parks"\, and runs from June 1 to August 1. You are invited to the opening reception on Saturday\, June 12 from 3-5pm at Stanford Inn by the Sea</p>
LOCATION:Stanford Inn by the Sea Mendocino
UID:e.2883.644
SEQUENCE:3
DTSTAMP:20260422T082323Z
URL:https://mendocinocoast.com/events/details/eco-artists-show-06-12-2015-644
END:VEVENT

END:VCALENDAR
