BEGIN:VCALENDAR
VERSION:2.0
PRODID:-//ChamberMaster//Event Calendar 2.0//EN
METHOD:PUBLISH
X-PUBLISHED-TTL:P3D
REFRESH-INTERVAL:P3D
CALSCALE:GREGORIAN
BEGIN:VEVENT
DTSTART:20160323T160000Z
DTEND:20160323T120000Z
X-MICROSOFT-CDO-ALLDAYEVENT:FALSE
SUMMARY:Easter Weekend at the Gardens!
DESCRIPTION:The Gardens will be a-buzz with activities for the whole family all weekend long! Join us at Mendocino Coast Botanical Gardens March 26 and 27 and celebrate spring with a stroll at our garden by the sea.Rhododendron Walks will be held on Saturday and Sunday at 11:00 am and again at 2:00 pm. More than 1\,000 Rhododendrons can be seen blooming throughout the Gardens this time of year. Join MCBG Gardener Jim Celeri and American Rhododendron Societyâ€™s local chapter President\, Dennis McKiver to learn more about these breathtaking beauties.Get festive on Sunday with free face painting from noon to 3:00 pm and an Easter egg hunt on the Event Lawn at 1:00 pm. The first 50 guests will receive an egg-cellent prizeâ€¦ so be sure to hop over to the Gardens early on Easter Sunday!Pop in to The Garden Store and Nursery on the Plaza for fresh new dÃ©cor and plants. The Garden Store will have a selection of stylish sun-shading hats\, top of the line gardening tools\, great giveaway prizes\, and more. Dahlia and Begonia tubers from the Gardens' own curated collection will be available at Nursery on the Plaza for the first time this year... and we only pick the best so don't miss out! Visit www.gardenbythesea.org for more details on all of the happenings over Easter weekend. All activities are free with Gardens admission:Saturday\, March 26th\nRhododendron Walk â€“ 11:00am\n Rhododendron Walk â€“ 2:00pmSunday\, March 27th\nThe first 50 visitors willÂ receiveÂ an egg-cellent prize!\n Rhododendron Walk â€“ 11:00am\n Free Face Painting â€“ 12:00pmÂ toÂ 3:00pm\nMCHS Mobile Pet Adoption Van â€“ 12:00pm to 3:00pm\n Easter Egg Hunt â€“ 1:00pm\n Rhododendron Walk â€“ 2:00pm Looking for a way to keep track of all of the wonderful workshops and events at Mendocino Coast Botanical Gardens?Subscribe to the MCBG Events Feed on Facebook-www.facebook.com/mendocinocoastbotanicalgardens/events... andÂ sign up for our "Bloom Blast"\, it is chock-full of info about the Gardens\, our beautiful blooms\, and upcoming events!
X-ALT-DESC;FMTTYPE=text/html:<p><span>The Gardens will be a-buzz with activities for the whole family all weekend long! Join us at Mendocino Coast Botanical Gardens March 26 and 27 and celebrate spring with a stroll at our garden by the sea.</span></p><p><span><strong>Rhododendron Walks</strong> will be held on Saturday and Sunday at 11:00 am and again at 2:00 pm. More than 1\,000 Rhododendrons can be seen blooming throughout the Gardens this time of year. Join MCBG Gardener Jim Celeri and American Rhododendron Societyâ€™s local chapter President\, Dennis McKiver to learn more about these breathtaking beauties.</span></p><p><span>Get festive on Sunday with <strong>free face painting</strong> from noon to 3:00 pm and an <strong>Easter egg hunt</strong> on the Event Lawn at 1:00 pm. The <strong>first 50 guests</strong> will receive an <em>egg-cellent</em> prizeâ€¦ so be sure to hop over to the Gardens early on Easter Sunday!</span></p><p><span>Pop in to <a href="http://www.gardenbythesea.org/visit/the-garden-store/"><span>The Garden Store</span></a> and <a href="http://www.gardenbythesea.org/visit/retail-nursery/"><span>Nursery on the Plaza</span></a> for fresh new dÃ©cor and plants. The Garden Store will have a selection of stylish sun-shading hats\, top of the line gardening tools\, great giveaway prizes\, and more. Dahlia and Begonia tubers from the Gardens' own curated collection will be available at Nursery on the Plaza for the first time this year... and we only pick the best so don't miss out!</span></p><p><span> Visit <a href="http://www.gardenbythesea.org/calendar/easter-weekend-at-the-gardens/"><span>www.gardenbythesea.org </span></a>for more details on all of the happenings over Easter weekend.</span></p><p><span> </span></p><p><span><strong>All activities are free with Gardens admission:</strong></span></p><p><span><strong><em>Saturday\, March 26th<br /></em></strong>Rhododendron Walk â€“ 11:00am<br /> Rhododendron Walk â€“ 2:00pm</span></p><p><span><strong><em>Sunday\, March 27th<br /></em></strong><em>The first 50 visitors willÂ receiveÂ an egg-cellent prize!</em><br /> Rhododendron Walk â€“ 11:00am<br /> Free Face Painting â€“ 12:00pmÂ toÂ 3:00pm<br /><a href="http://www.mendocinohumane.org/adoptables.php"><span>MCHS Mobile Pet Adoption Van</span></a> â€“ 12:00pm to 3:00pm<br /> Easter Egg Hunt â€“ 1:00pm<br /> Rhododendron Walk â€“ 2:00pm</span></p><p><span> </span></p><p><span><strong><em>Looking for a way to keep track of all of the wonderful workshops and events at Mendocino Coast Botanical Gardens?</em></strong></span></p><p><span>Subscribe to the MCBG Events Feed on Facebook-<a href="https://www.facebook.com/mendocinocoastbotanicalgardens/events?key=events"><span>www.facebook.com/mendocinocoastbotanicalgardens/events</span></a>... andÂ <a href="http://gardenbythesea.us6.list-manage.com/subscribe?u=47f057ea8c09e1519b2e52094&amp\;id=e4d628c753"><span>sign up for our "Bloom Blast"</span></a>\, it is chock-full of info about the Gardens\, our beautiful blooms\, and upcoming events!</span></p>
LOCATION:Mendocino Coast Botanical Gardens Fort Bragg
UID:e.2883.900
SEQUENCE:3
DTSTAMP:20260421T173151Z
URL:https://mendocinocoast.com/events/details/easter-weekend-at-the-gardens-03-23-2016-900
END:VEVENT

END:VCALENDAR
