BEGIN:VCALENDAR
VERSION:2.0
PRODID:-//ChamberMaster//Event Calendar 2.0//EN
METHOD:PUBLISH
X-PUBLISHED-TTL:P3D
REFRESH-INTERVAL:P3D
CALSCALE:GREGORIAN
BEGIN:VEVENT
DTSTART:20140417T180000Z
DTEND:20140417T230100Z
X-MICROSOFT-CDO-ALLDAYEVENT:FALSE
SUMMARY:Easter Party
DESCRIPTION:C.V. Starr Center Easter Party 2014Saturday April 19th 11:00amBring your suit & towel for a fun day of water and fun.Â  We'll start with an Easter EggÂ  Hunt for kids ages 1-12 in both of our pools. We will also have a variety of games to play\, some in the water and others around the pool deck. The party will end with a rubber duck race in the Lazy River.Â  There will be lots of prizes and fun for the whole family. Swim Slide Splash from 11:00am-4:00pmCost is our Daily Admission $5 for youth $7 for adults*Free for Members*For more information call 964-9446www.starrcenter.net
X-ALT-DESC;FMTTYPE=text/html:<table border="0" cellspacing="0" cellpadding="0" width="100%" bgcolor="#007094"><tbody><tr><td><table border="0" cellspacing="0" cellpadding="1" width="600" align="center"><tbody><tr><td bgcolor="#809548"><table border="0" cellspacing="0" cellpadding="0" width="100%" bgcolor="#FFFFFF"><tbody><tr><td colspan="2" width="100%" align="center" valign="top"><table id="content_LETTER.BLOCK5" border="0" cellspacing="0" cellpadding="10" width="100%" bgcolor="#CCFFCC" background="http://img.constantcontact.com/letters/images/1101093164665/seas_summersave_pro1.gif"><tbody><tr><td valign="top"><div><div><div><div><div><p><span>C.V. Starr Center</span> Easter Party 2014</p><p>Saturday April 19th 11:00am</p><p>Bring your suit &amp\; towel for a fun day of water and fun.Â  We'll start with an Easter EggÂ  Hunt for kids ages 1-12 in both of our pools. We will also have a variety of games to play\, some in the water and others around the pool deck. The party will end with a rubber duck race in the Lazy River.Â  There will be lots of prizes and fun for the whole family. Swim Slide Splash from 11:00am-4:00pm</p><p>Cost is our Daily Admission $5 for youth $7 for adults</p><p>*Free for Members*</p><p>For more information call 964-9446</p><p><a href="http://r20.rs6.net/tn.jsp?f=001i0fb1pH1hNaCZsOGm_Dp16Tuep0LIsaJcdndDlZzKPjozxSLJUEwn1930EUt73wKZoq9s8hTEij4Zf0eeii82CBdGDf83Xg-UMI_Ver5yR2RPBny0xpXNq14lr6iXj2rdmpBrIronQfYE36zESnBeb6uCsnDnja9TNYQ4d3fxk619aj97HhFDA==&amp\;c=ivzUA3l1FG0jOe_dZfE2ejwtohdk-bC7zyyQ12PKXKGy281hQdGkyw==&amp\;ch=XdhyLZBPB5CgdF7WJBDhom0aoFo0y1-u04v1FdKIOAiJjhtGnNLolQ==" target="_blank">www.starrcenter.net</a></p></div></div></div></div></div></td></tr></tbody></table></td></tr></tbody></table></td></tr></tbody></table></td></tr></tbody></table>
LOCATION:C.V. Starr Center Fort Bragg
UID:e.2883.219
SEQUENCE:3
DTSTAMP:20260423T095726Z
URL:https://mendocinocoast.com/events/details/easter-party-04-17-2014-219
END:VEVENT

END:VCALENDAR
