BEGIN:VCALENDAR
VERSION:2.0
PRODID:-//ChamberMaster//Event Calendar 2.0//EN
METHOD:PUBLISH
X-PUBLISHED-TTL:P3D
REFRESH-INTERVAL:P3D
CALSCALE:GREGORIAN
BEGIN:VEVENT
DTSTART:20150403T170000Z
DTEND:20150403T190000Z
X-MICROSOFT-CDO-ALLDAYEVENT:FALSE
SUMMARY:Easter Egg Hunt @ C.V. Starr Center
DESCRIPTION:Come and join us for a fun Easter Egg Hunt for grammar school kids\, Saturday\, April 4\, 10am sharp!It will take place on the field between the C.V. Starr Center and the Redwood Elementary School.For more information\, call Kiwanis at 707-964-2627.
X-ALT-DESC;FMTTYPE=text/html:<p>Come and join us for a fun Easter Egg Hunt for grammar school kids\, Saturday\, April 4\, 10am sharp!</p><p>It will take place on the field between the C.V. Starr Center and the Redwood Elementary School.</p><p>For more information\, call Kiwanis at 707-964-2627.</p>
LOCATION:C.V. Starr Center Fort Bragg
UID:e.2883.589
SEQUENCE:3
DTSTAMP:20260422T114847Z
URL:https://mendocinocoast.com/events/details/easter-egg-hunt-c-v-starr-center-04-03-2015-589
END:VEVENT

END:VCALENDAR
