BEGIN:VCALENDAR
VERSION:2.0
PRODID:-//ChamberMaster//Event Calendar 2.0//EN
METHOD:PUBLISH
X-PUBLISHED-TTL:P3D
REFRESH-INTERVAL:P3D
CALSCALE:GREGORIAN
BEGIN:VEVENT
DTSTART:20140417T170000Z
DTEND:20140417T190000Z
X-MICROSOFT-CDO-ALLDAYEVENT:FALSE
SUMMARY:Easter Egg Hunt
DESCRIPTION:Easter Egg Hunt run by theÂ Kiwanis. on Saturday April 19 at 10:00 am sharp at the field between Redwood Elementary and The Aquatic Center. Bring a basket and make sure you are there at least 15 minutes early as we don't want disappointed children and parking may be tight. The Easter Bunny has been invited!
X-ALT-DESC;FMTTYPE=text/html:<table border="0" cellspacing="0" cellpadding="0" width="100%" bgcolor="#007094"><tbody><tr><td><table border="0" cellspacing="0" cellpadding="1" width="600" align="center"><tbody><tr><td bgcolor="#809548"><table border="0" cellspacing="0" cellpadding="0" width="100%" bgcolor="#FFFFFF"><tbody><tr><td colspan="2" width="100%" align="center" valign="top"><table id="content_LETTER.BLOCK5" border="0" cellspacing="0" cellpadding="10" width="100%" bgcolor="#CCFFCC" background="http://img.constantcontact.com/letters/images/1101093164665/seas_summersave_pro1.gif"><tbody><tr><td valign="top"><div><div><div><div><div><p>Easter Egg Hunt run by theÂ <span>Kiwanis</span>. on Saturday April 19 at 10:00 am sharp at the field between Redwood Elementary and The Aquatic Center. Bring a basket and make sure you are there at least 15 minutes early as we don't want disappointed children and parking may be tight. The Easter Bunny has been invited!</p></div></div></div></div></div></td></tr></tbody></table></td></tr></tbody></table></td></tr></tbody></table></td></tr></tbody></table>
LOCATION:field between redwood Elem. & CV Starr Ctr. Fort Bragg
UID:e.2883.218
SEQUENCE:3
DTSTAMP:20260423T095807Z
URL:https://mendocinocoast.com/events/details/easter-egg-hunt-04-17-2014-218
END:VEVENT

END:VCALENDAR
