BEGIN:VCALENDAR
VERSION:2.0
PRODID:-//ChamberMaster//Event Calendar 2.0//EN
METHOD:PUBLISH
X-PUBLISHED-TTL:P3D
REFRESH-INTERVAL:P3D
CALSCALE:GREGORIAN
BEGIN:VEVENT
DTSTART:20150403T164500Z
DTEND:20150403T204500Z
X-MICROSOFT-CDO-ALLDAYEVENT:FALSE
SUMMARY:Easter Egg Express Skunk Train (from Willits)
DESCRIPTION:(EGG) Easter Egg Express\, BrunchAll Aboard the Easter Egg Express! Hop aboard the Easter Egg Express which travels round trip from Willits to Northspur for a fun filled day in the redwoods. There's an egg hunt at Northspur and a delicious brunch is served with a surprise visit from the Easter bunny.- All Ages Ride -
X-ALT-DESC;FMTTYPE=text/html:<p><div><div><a href="https://whistletix-public.ticketbiscuit.com/SkunkTrain/Events/233443">(EGG) Easter Egg Express\, Brunch</a></div></div><div><div>All Aboard the Easter Egg Express! Hop aboard the Easter Egg Express which travels round trip from Willits to Northspur for a fun filled day in the redwoods. There's an egg hunt at Northspur and a delicious brunch is served with a surprise visit from the Easter bunny.</div></div><div><div>- All Ages Ride -</div></div></p>
LOCATION:Skunk Train Willits
UID:e.2883.590
SEQUENCE:3
DTSTAMP:20260422T114808Z
URL:https://mendocinocoast.com/events/details/easter-egg-express-skunk-train-from-willits-04-03-2015-590
END:VEVENT

END:VCALENDAR
