BEGIN:VCALENDAR
VERSION:2.0
PRODID:-//ChamberMaster//Event Calendar 2.0//EN
METHOD:PUBLISH
X-PUBLISHED-TTL:P3D
REFRESH-INTERVAL:P3D
CALSCALE:GREGORIAN
BEGIN:VEVENT
DTSTART:20160316T190000Z
DTEND:20160316T230000Z
X-MICROSOFT-CDO-ALLDAYEVENT:FALSE
SUMMARY:Easter Carnival
DESCRIPTION:All ages welcome for an Easter EGGSTRAVAGANZA!! Â Join us for an amazing day of fun and smiles at the Emerald Dolphin Mini Golf. Â Tickets will be available to Enjoy Carnival games to win great prizes\, Crafts\, games\, and a bounce house. Â Free to all children will be Mini Golf and our annual Easter Egg Hunt for children 13 and under (bring your basket please and don't be late. Â We start hunting at 4pm sharp!). Â There will also be delicious food and treats so come and spend the day with us and the Easter Bunny!! Â  Carnival will begin at Noon and end with the Egg hunt at 4pm!
X-ALT-DESC;FMTTYPE=text/html:<p>All ages welcome for an Easter EGGSTRAVAGANZA!! Â Join us for an amazing day of fun and smiles at the Emerald Dolphin Mini Golf. Â Tickets will be available to Enjoy Carnival games to win great prizes\, Crafts\, games\, and a bounce house. Â Free to all children will be Mini Golf and our annual Easter Egg Hunt for children 13 and under (bring your basket please and don't be late. Â We start hunting at 4pm sharp!). Â There will also be delicious food and treats so come and spend the day with us and the Easter Bunny!! Â  Carnival will begin at Noon and end with the Egg hunt at 4pm!</p>
LOCATION:Emerald Dolphin Mini Golf FORT BRAGG
UID:e.2883.876
SEQUENCE:3
DTSTAMP:20260421T172908Z
URL:https://mendocinocoast.com/events/details/easter-carnival-03-16-2016-876
END:VEVENT

END:VCALENDAR
