BEGIN:VCALENDAR
VERSION:2.0
PRODID:-//ChamberMaster//Event Calendar 2.0//EN
METHOD:PUBLISH
X-PUBLISHED-TTL:P3D
REFRESH-INTERVAL:P3D
CALSCALE:GREGORIAN
BEGIN:VEVENT
DTSTART:20150401T180000Z
DTEND:20150401T200000Z
X-MICROSOFT-CDO-ALLDAYEVENT:FALSE
SUMMARY:EASTER BRUNCH @ 5200 Restaurant
DESCRIPTION:Sunday\, April 5\, 11am - 1pm: Easter Brunch at 5200 Restaurant & Lounge\, Heritage House Resort.More info: 707-202-9000
X-ALT-DESC;FMTTYPE=text/html:<p>Sunday\, April 5\, 11am - 1pm: Easter Brunch at 5200 Restaurant &amp\; Lounge\, Heritage House Resort.</p><p>More info: 707-202-9000</p>
LOCATION:The Heritage House Resort Mendocino
UID:e.2883.581
SEQUENCE:3
DTSTAMP:20260422T114848Z
URL:https://mendocinocoast.com/events/details/easter-brunch-5200-restaurant-04-01-2015-581
END:VEVENT

END:VCALENDAR
