BEGIN:VCALENDAR
VERSION:2.0
PRODID:-//ChamberMaster//Event Calendar 2.0//EN
METHOD:PUBLISH
X-PUBLISHED-TTL:P3D
REFRESH-INTERVAL:P3D
CALSCALE:GREGORIAN
BEGIN:VEVENT
DTSTART:20260426T180000Z
DTEND:20260427T000000Z
X-MICROSOFT-CDO-ALLDAYEVENT:FALSE
SUMMARY:Earth Day at Frey Vineyards
DESCRIPTION:Celebrate Earth Day at Frey Vineyards! Join us for native plant berm tours\, a bouquet bar\, hay rides\, Earth-friendly vendors\, a kid zone\, and of course\, Organic & Biodynamic wine! Glasses of wine (21+)\, non-alcoholic beverages\, and food available for purchase. Menus: -Sesame Noodles\, Citrus Slaw\, and Veggie Skewer - $20 -Cocina Picante serving tamales and hard tacos for purchase Wine Club Benefits: Complimentary glass of wine FREE TO THE PUBLIC!
X-ALT-DESC;FMTTYPE=text/html:Celebrate Earth Day at Frey Vineyards! Join us for native plant berm tours\, a bouquet bar\, hay rides\, Earth-friendly vendors\, a kid zone\, and of course\, Organic &amp\; Biodynamic wine! Glasses of wine (21+)\, non-alcoholic beverages\, and food available for purchase. Menus: -Sesame Noodles\, Citrus Slaw\, and Veggie Skewer - $20 -Cocina Picante serving tamales and hard tacos for purchase Wine Club Benefits: Complimentary glass of wine FREE TO THE PUBLIC!
LOCATION:Frey Vineyards Tasting Room? 11700 West Road Redwood Valley\, CA\, 95470
UID:e.2883.32109
SEQUENCE:3
DTSTAMP:20260422T020307Z
URL:https://mendocinocoast.com/events/details/earth-day-at-frey-vineyards-32109
END:VEVENT

END:VCALENDAR
