BEGIN:VCALENDAR
VERSION:2.0
PRODID:-//ChamberMaster//Event Calendar 2.0//EN
METHOD:PUBLISH
X-PUBLISHED-TTL:P3D
REFRESH-INTERVAL:P3D
CALSCALE:GREGORIAN
BEGIN:VEVENT
DTSTART:20160114T043000Z
DTEND:20160114T070000Z
X-MICROSOFT-CDO-ALLDAYEVENT:FALSE
SUMMARY:Druid Sisters Tea Party\, world dance band
DESCRIPTION:DRUID SISTERS TEA PARTY is an organic world dance band that pulls its flavors from around the world. Tribal-Jungle Dance Drums\, Celtic Fiddle that swirls into gypsy realms & Dreamy Trance Vocals with Indian harmonium and hypnotic didjeridu. The band features Claudia Paige - Drums/Percussion/Djembe/Vocal Chants\; Cyoakha Grace - Lead Vocals/Harmonium/Didjeridu & Kathy Buys - Celtic Fiddle along with special guests - the Druid Sisters Tribal Belly Dancers. Come out to see the band at Hill House Inn on Saturday\, February 20.\n\nSpecial opening act for the evening is Mendocino's own â€œSoul Elixirâ€ with Pilar Duran\, Claudia Paige and David Brown. Friends from different musical backgrounds coming together to play a musical tapestry of Afro Fusion/Latin/Surf/Funky Blues & Groove!\n\nDoors open at 6PM for casual dining and full bar\, Music at 7:30PM. $10 at the door. 937-0554
X-ALT-DESC;FMTTYPE=text/html:<p>DRUID SISTERS TEA PARTY is an organic world dance band that pulls its flavors from around the world. Tribal-Jungle Dance Drums\, Celtic Fiddle that swirls into gypsy realms &amp\; Dreamy Trance Vocals with Indian harmonium and hypnotic didjeridu. The band features Claudia Paige - Drums/Percussion/Djembe/Vocal Chants\; Cyoakha Grace - Lead Vocals/Harmonium/Didjeridu &amp\; Kathy Buys - Celtic Fiddle along with special guests - the Druid Sisters Tribal Belly Dancers. Come out to see the band at Hill House Inn on Saturday\, February 20.<br /><br />Special opening act for the evening is Mendocino's own â€œSoul Elixirâ€ with Pilar Duran\, Claudia Paige and David Brown. Friends from different musical backgrounds coming together to play a musical tapestry of Afro Fusion/Latin/Surf/Funky Blues &amp\; Groove!<br /><br />Doors open at 6PM for casual dining and full bar\, Music at 7:30PM. $10 at the door. 937-0554</p>
LOCATION:Hill House of Mendocino
UID:e.2883.834
SEQUENCE:3
DTSTAMP:20260421T224701Z
URL:https://mendocinocoast.com/events/details/druid-sisters-tea-party-world-dance-band-01-13-2016-834
END:VEVENT

END:VCALENDAR
