BEGIN:VCALENDAR
VERSION:2.0
PRODID:-//ChamberMaster//Event Calendar 2.0//EN
METHOD:PUBLISH
X-PUBLISHED-TTL:P3D
REFRESH-INTERVAL:P3D
CALSCALE:GREGORIAN
BEGIN:VEVENT
DTSTART:20150206T040100Z
DTEND:20150206T070100Z
X-MICROSOFT-CDO-ALLDAYEVENT:FALSE
SUMMARY:Dorian May's BongoLatte @ Headlands Coffeehouse\, First Friday!
DESCRIPTION:Live music at Headlands Coffeehouse\, 120 Laurel Street\, Fort Bragg.Call 707-964-1987 or go to www.headlandscoffehouse.com for more information.
X-ALT-DESC;FMTTYPE=text/html:<p>Live music at Headlands Coffeehouse\, 120 Laurel Street\, Fort Bragg.</p><p>Call 707-964-1987 or go to<a href="http://www.headlandscoffehouse.com" target="_blank"> www.headlandscoffehouse.com</a> for more information.</p>
LOCATION:Headlands Coffeehouse Fort Bragg CA
UID:e.2883.505
SEQUENCE:3
DTSTAMP:20260422T163815Z
URL:https://mendocinocoast.com/events/details/dorian-may-s-bongolatte-headlands-coffeehouse-first-friday-02-05-2015-505
END:VEVENT

END:VCALENDAR
