BEGIN:VCALENDAR
VERSION:2.0
PRODID:-//ChamberMaster//Event Calendar 2.0//EN
METHOD:PUBLISH
X-PUBLISHED-TTL:P3D
REFRESH-INTERVAL:P3D
CALSCALE:GREGORIAN
BEGIN:VEVENT
DTSTART:20150530T220000Z
DTEND:20150530T230000Z
X-MICROSOFT-CDO-ALLDAYEVENT:FALSE
SUMMARY:Discovery Talk: California Indian histories and memories of the Civil War
DESCRIPTION:On Saturday\, May 30\, at 3:00 pm\, Dr. William Bauer\, Assistant Professor of History at University of Las Vegas\, Nevada\, and Round Valley Tribe member\, will be giving a FREE talk on California Indian histories and memories of the Civil War at the Mendocino County Museum. This discussion is presented in conjunction with the Museumâ€™s two new exhibitsÂ which chronicle the Civil War years from both a national and local perspective.Â Lincoln: the Constitution and the Civil War is a nationally-touring exhibit thatÂ tells the story of Abraham Lincolnâ€™s struggle to meet the constitutional challenges of the Civil War. Uncivil Homefront: Mendocino County during the Civil War curated by Rebecca Montes\, Assistant Professor of History at Mendocino College\, focuses on the local effects of the Civil War through politics\, the military experience\, and the indentured servitude of Native Americans.\nThe Museum will be offering free admission from May 16-June 21.  For more information visit www.MendocinoMuseum.org or call 459-2736. The Museum is located at 400 East Commercial Street in Willits.
X-ALT-DESC;FMTTYPE=text/html:<p><span style="font-size: small\;"><span style="font-family: 'Times New Roman'\;">On Saturday\, May 30\, at 3:00 pm\, Dr. William Bauer\, Assistant Professor of History at University of Las Vegas\, Nevada\, and Round Valley Tribe member\, will be giving a FREE talk on California Indian histories and memories of the Civil War at the Mendocino County Museum.</span></span></p><p><span style="font-family: 'Times New Roman'\; font-size: small\;"> </span></p><p><span style="font-size: small\;"><span style="font-family: 'Times New Roman'\;">This discussion is presented in conjunction with the Museumâ€™s two new exhibitsÂ which chronicle the Civil War years from both a national and local perspective.Â <strong><em>Lincoln: the Constitution and the Civil War </em></strong>is a nationally-touring exhibit thatÂ tells the story of Abraham Lincolnâ€™s struggle to meet the constitutional challenges of the Civil War.<strong> </strong><strong><em>Uncivil Homefront: Mendocino County during the Civil War </em></strong>curated by Rebecca Montes\, Assistant Professor of History at Mendocino College\, focuses on the local effects of the Civil War through politics\, the military experience\, and the indentured servitude of Native Americans.</span></span></p><p><br /><span style="font-size: small\;"><span style="font-family: 'Times New Roman'\;">The Museum will be offering free admission from May 16-June 21. </span></span></p><p><span style="font-family: 'Times New Roman'\; font-size: small\;"> </span></p><p><span style="font-size: small\;"><span style="font-family: 'Times New Roman'\;">For more information visit </span><a href="http://www.mendocinomuseum.org/"><span style="color: #0000ff\; font-family: 'Times New Roman'\;">www.MendocinoMuseum.org</span></a><span style="font-family: 'Times New Roman'\;"> or call 459-2736. The Museum is located at 400 East Commercial Street in Willits.</span></span></p>
LOCATION:Mendocino County Museum Willits
UID:e.2883.636
SEQUENCE:3
DTSTAMP:20260422T102052Z
URL:https://mendocinocoast.com/events/details/discovery-talk-california-indian-histories-and-memories-of-the-civil-war-05-30-2015-636
END:VEVENT

END:VCALENDAR
