BEGIN:VCALENDAR
VERSION:2.0
PRODID:-//ChamberMaster//Event Calendar 2.0//EN
METHOD:PUBLISH
X-PUBLISHED-TTL:P3D
REFRESH-INTERVAL:P3D
CALSCALE:GREGORIAN
BEGIN:VEVENT
DTSTART:20140103T040000Z
DTEND:20140103T070000Z
X-MICROSOFT-CDO-ALLDAYEVENT:FALSE
SUMMARY:Dinner Jazz at North Coast Brewings Sequoia Room
DESCRIPTION:Dinner Jazz from 6 to 9 pm every Friday and Saturday evening with Richard Cooper on piano and Francis Vanek on tenor sax and occasional guests
X-ALT-DESC;FMTTYPE=text/html:<p>Dinner Jazz from 6 to 9 pm every Friday and Saturday evening with Richard Cooper on piano and Francis Vanek on tenor sax and occasional guests</p>
LOCATION:Sequoia Room in NCBCs Brewery Taproom Mendocino
UID:e.2883.48
SEQUENCE:3
DTSTAMP:20260423T162035Z
URL:https://mendocinocoast.com/events/details/dinner-jazz-at-north-coast-brewings-sequoia-room-01-02-2014-48
END:VEVENT

END:VCALENDAR
