BEGIN:VCALENDAR
VERSION:2.0
PRODID:-//ChamberMaster//Event Calendar 2.0//EN
METHOD:PUBLISH
X-PUBLISHED-TTL:P3D
REFRESH-INTERVAL:P3D
CALSCALE:GREGORIAN
BEGIN:VEVENT
DTSTART:20150423T133000Z
DTEND:20150423T160000Z
X-MICROSOFT-CDO-ALLDAYEVENT:FALSE
SUMMARY:Dinner in the Lighthouse
DESCRIPTION:In support of our aquarium project\, Kim Badenhop\, ZAGAT rated chef\, will prepare dinner\, while Greg Graziano of Graziano Veneyards provides matching wines. The lens tour is at 6:30\, followed by dinner in the lighthouse. $125 per guest. For reservations\, call 707.937.6123. For all the details\, please see the website: www.pointcabrillo.org
X-ALT-DESC;FMTTYPE=text/html:<p><span style="color:#000000\;background-color:#ffffff\;font-size:small\;font-family:georgia\, palatino\;">In support of our aquarium project\, Kim Badenhop\, ZAGAT rated chef\, will prepare dinner\, while Greg Graziano of Graziano Veneyards provides matching wines. The lens tour is at 6:30\, followed by dinner in the lighthouse. $125 per guest. </span></p><p><span style="color:#000000\;background-color:#ffffff\;font-size:small\;font-family:georgia\, palatino\;">For reservations\, call 707.937.6123. For all the details\, please see the website: www.pointcabrillo.org<br /></span></p>
LOCATION:Point Cabrillo Light Station State Historic Park Mendocino
UID:e.2883.610
SEQUENCE:3
DTSTAMP:20260422T114808Z
URL:https://mendocinocoast.com/events/details/dinner-in-the-lighthouse-04-23-2015-610
END:VEVENT

END:VCALENDAR
