BEGIN:VCALENDAR
VERSION:2.0
PRODID:-//ChamberMaster//Event Calendar 2.0//EN
METHOD:PUBLISH
X-PUBLISHED-TTL:P3D
REFRESH-INTERVAL:P3D
CALSCALE:GREGORIAN
BEGIN:VEVENT
DTSTART:20140122T043000Z
DTEND:20140122T070000Z
X-MICROSOFT-CDO-ALLDAYEVENT:FALSE
SUMMARY:Dine-Out with Mendocino Land Trust
DESCRIPTION:Enjoy good company\, fine foods and craft cocktails all for a great cause at the MacCallum House! ALL PROFITS for the evening benefit Mendocino Land Trust\, and with the Mendocino County Crab & Wine Festival in full swing\, the cuisine is certain to be fresh and delectable. In addition\, the MacCallum House is offering 20% off a same-night stay for anyone who mentions Mendocino Land Trust to the front desk! For reservations\, please call 707-937-0289 or visit maccallumhouse.com to guarantee a table. Map & Directions
X-ALT-DESC;FMTTYPE=text/html:<p>Enjoy good company\, fine foods and craft cocktails all for a great cause at the MacCallum House! ALL PROFITS for the evening benefit Mendocino Land Trust\, and with the Mendocino County Crab &amp\; Wine Festival in full swing\, the cuisine is certain to be fresh and delectable. In addition\, the MacCallum House is offering 20% off a same-night stay for anyone who mentions Mendocino Land Trust to the front desk! For reservations\, please call 707-937-0289 or visit maccallumhouse.com to guarantee a table. Map &amp\; Directions</p>
LOCATION:45020 Albion St.\, Mendocino\, CA
UID:e.2883.46
SEQUENCE:3
DTSTAMP:20260423T161820Z
URL:https://mendocinocoast.com/events/details/dine-out-with-mendocino-land-trust-01-21-2014-46
END:VEVENT

END:VCALENDAR
