BEGIN:VCALENDAR
VERSION:2.0
PRODID:-//ChamberMaster//Event Calendar 2.0//EN
METHOD:PUBLISH
X-PUBLISHED-TTL:P3D
REFRESH-INTERVAL:P3D
CALSCALE:GREGORIAN
BEGIN:VEVENT
DTSTART;VALUE=DATE:20151123
DTEND;VALUE=DATE:20151124
TRANSP:TRANSPARENT
X-MICROSOFT-CDO-ALLDAYEVENT:TRUE
SUMMARY:Dine Out at Silvers at the Wharf!
DESCRIPTION:You are invited to Meet and Mingle with the Cast and Crew of our Fall Show Peter Pan while enjoying a delicious dinner at \nSilverâ€™s at The Wharf!\n\nDATE: Tuesday\, December 15\n\nPLACE: Silverâ€™s at the Wharf\n32260 N Harbor Dr\nNoyo Harbor\, Fort Bragg\n\nTIME: Anytime beginning at \n4:30 pm\, ending at 9:30 pm\n\nA Portion of the Proceeds from each dinner served (between 4:30 and 9:30 pm) will be donated to Gloriana Musical Theatre! (Alcoholic drinks not included)\n\nReservations are recommended by calling:\n964-4283
X-ALT-DESC;FMTTYPE=text/html:<p><span>You are invited to Meet and Mingle with the Cast and Crew of our Fall Show Peter Pan while enjoying a delicious dinner at </span><br /><span>Silverâ€™s at The Wharf!</span><br /><br /><span>DATE: Tuesday\, December 15</span><br /><br /><span>PLACE: Silverâ€™s at the Wharf</span><br /><span>32260 N Harbor Dr</span><br /><span>Noyo Harbor\, Fort Bragg</span><br /><br /><span>TIME: Anytime beginning at </span><br /><span>4:30 pm\, ending at 9:30 pm</span><br /><span><br />A Portion of the Proceeds from each dinner served (between 4:30 and 9:30 pm) will be donated to Gloriana Musical Theatre! (Alcoholic drinks not included)<br /><br />Reservations are recommended by calling:<br />964-4283</span></p>
LOCATION:Silvers at the Wharf Fort Bragg
UID:e.2883.798
SEQUENCE:3
DTSTAMP:20260422T001029Z
URL:https://mendocinocoast.com/events/details/dine-out-at-silvers-at-the-wharf-11-23-2015-798
END:VEVENT

END:VCALENDAR
